BEGIN:VCALENDAR
VERSION:2.0
PRODID:-//La Solid&#039; - ECPv6.13.2.1//NONSGML v1.0//EN
CALSCALE:GREGORIAN
METHOD:PUBLISH
X-WR-CALNAME:La Solid&#039;
X-ORIGINAL-URL:https://www.lasolid.fr
X-WR-CALDESC:Évènements pour La Solid&#039;
REFRESH-INTERVAL;VALUE=DURATION:PT1H
X-Robots-Tag:noindex
X-PUBLISHED-TTL:PT1H
BEGIN:VTIMEZONE
TZID:Europe/Paris
BEGIN:DAYLIGHT
TZOFFSETFROM:+0100
TZOFFSETTO:+0200
TZNAME:CEST
DTSTART:20240331T010000
END:DAYLIGHT
BEGIN:STANDARD
TZOFFSETFROM:+0200
TZOFFSETTO:+0100
TZNAME:CET
DTSTART:20241027T010000
END:STANDARD
END:VTIMEZONE
BEGIN:VEVENT
DTSTART;VALUE=DATE:20240124
DTEND;VALUE=DATE:20240305
DTSTAMP:20260420T231905
CREATED:20240124T083657Z
LAST-MODIFIED:20240124T084348Z
UID:10001617-1706054400-1709596799@www.lasolid.fr
SUMMARY:La Solid' recrute !
DESCRIPTION:OFFRE D’EMPLOI ANIMATEUR·ICE TIERS-LIEU ATELIERS SOLIDAIRES & ÉDUCATION EN ENVIRONNEMENT \n\nEmploi animateur·ice FONJEP – CDI – 106h/mois évolutif \n\nL’association : La Solid’\, association citoyenne créée en 2000 sous l’ancien nom de Clisson Passion\, regroupe 600 adhérent·es engagé·es dans des projets de préservation de l’environnement\, de développement de la mobilité à vélo\, des solidarités\, de la mixité sociale\, culturelle et intergénérationnelle\, dans un esprit de convivialité et d’éducation populaire. La gouvernance de l’association est partagée : bureau et conseil associatif sont collégiaux\, les prises de décision se font en intelligence collective. L’équipe est composée de 80 bénévoles\,et de 4 salari·é·es : animateur-techicien vélo\, animateurs-techniciens polyvalents\, coordinatrice. Nous accueillons des jeunes en service civique. La Solid’ vient d’intégrer des locaux rénovés à la maison de la solidarité de Clisson\, pour y animer des ateliers de réparation et réemploi : vélo\, bois\, soudure\, couture\, mais aussi un atelier des savoirs\, et un groupe “Super Féministes.” \nNos partenaires : La Récupérette\, les Ecolorés\, ETAPE Jeunes\, Animaje\, établissements scolaires et collectivités locales\, réseaux GRAINE\, Ecopole\, Ecossolies\, FUB\, L’Heureux Cyclage\, FNE\, Bretagne Vivante… \nMissions proposées : Animation du Tiers-lieu & vie associative : -S’inscrire dans le projet actuel de la Solid’ et contribuer à son évolution -Aménager le Tiers lieu et animer des chantiers participatifs de construction de mobilier à partir de matériaux de récupération\, notamment auprès d’un public jeune -Participer à la coordination logistique du Tiers-Lieu : gestion du matériel\, plannings\, relais d’informations -Co-construire des projets et actions avec les adhérent·es\, usagers\, partenaires et l’équipe salariée : ateliers participatifs\, petites constructions en bois (mobilier en palettes notamment) Animation Jeunesse & grand public : -Animer des stands de toilettes sèches et de sensibilisation à l’environnement en événementiel. Ex : Scènes vagabondes\, Handiclap\, Pépites botaniques\, Rentrée du vignoble à vélo… -Animer des ateliers en milieux scolaires\, périscolaire et foyers de jeunes\, et des actions grand public de sensibilisation à l’environnement thématiques\, en fonction des appétences de la personne. \n\nProfil recherché : \n\n\nBAFA obligatoire : animation jeunesse et grand public. \nPermis B obligatoire \nManuel·le – Connaissances en menuiserie nécessaires \nAutonome – Sait travailler en équipe \nSensibilisé·e à l’écologie et/ou formé·e à l’éducation populaire – Créatif·ve serait un plus \nDébutant·e accepté·e – Disponibles quelques week-ends et soirées \nInformations complémentaires : \n Lieu de travail principal : maison de la solidarité de Clisson à 500m de la gare tram-train et TER vers Nantes\, Cholet\, La Roche sur Yon – déplacements ponctuels à l’échelle du Pays du Vignoble nantais Défraiements kilométriques – Vélo de fonction – Prise en charge 50% abonnement TER / Mutuelle d’entreprise. Convention collective ECLAT \nRémunération brute minimum (hors reconstitution de carrière\, primes et heures complémentaires) : de 1388\,25€ à 1572\,75€ bruts pour 106h/mois. Évolution possible : coefficient et nombre d’heures \nDate de publication : 22 janvier 2024 \nPrise de poste le 29 mars 2024 \nCandidature à envoyer avant le 4 mars 2024 à bureau@lasolid.fr. Contact : 02 85 52 45 21
URL:https://www.lasolid.fr/evenement/la-solid-recrute/
LOCATION:Maison de la solidarité\, 1 rue des filatures\, Clisson\, 44190\, France
CATEGORIES:Atelier des savoirs,Café jardin,Clubs CPN,Environnement - Biodiversité,Fil Good,Good Steel,Good Wood,Pote Âgé,Tiers Lieu Ateliers Solidaires,Veille environnementale,Verger
ATTACH;FMTTYPE=image/png:https://www.lasolid.fr/wp-content/uploads/Design-sans-titre.png
ORGANIZER;CN="La Solid'":MAILTO:asso@lasolid.fr
END:VEVENT
BEGIN:VEVENT
DTSTART;TZID=Europe/Paris:20240206T150000
DTEND;TZID=Europe/Paris:20240206T180000
DTSTAMP:20260420T231905
CREATED:20240119T234439Z
LAST-MODIFIED:20240120T003233Z
UID:10001614-1707231600-1707242400@www.lasolid.fr
SUMMARY:Chantier rangement du local de jardinage
DESCRIPTION:Merci pour tes coups de mains à partir de 15h pour ranger\, trier les outils de jardinage à La Solid’ et préparer notre stock de graines pour la GrainOfête ! \nContact : Fred – 06 19 15 12 38
URL:https://www.lasolid.fr/evenement/chantier-rangement-du-local-de-jardinage/
LOCATION:Maison de la solidarité\, 1 rue des filatures\, Clisson\, 44190\, France
CATEGORIES:Café jardin,Environnement - Biodiversité,Pote Âgé,Verger
ATTACH;FMTTYPE=image/jpeg:https://www.lasolid.fr/wp-content/uploads/jardin-scaled.jpg
ORGANIZER;CN="La Solid'":MAILTO:asso@lasolid.fr
END:VEVENT
BEGIN:VEVENT
DTSTART;TZID=Europe/Paris:20240206T183000
DTEND;TZID=Europe/Paris:20240206T203000
DTSTAMP:20260420T231905
CREATED:20231222T015349Z
LAST-MODIFIED:20231222T015349Z
UID:10001606-1707244200-1707251400@www.lasolid.fr
SUMMARY:Réunion Jardins
DESCRIPTION:Ouverte aux bénévoles des potes âgés et autres activités aux jardins. \nNous définirons le programme des activités 2024\, à partir des propositions émises par les bénévoles en décembre.
URL:https://www.lasolid.fr/evenement/reunion-jardins/
LOCATION:Maison de la solidarité\, 1 rue des filatures\, Clisson\, 44190\, France
CATEGORIES:Café jardin,Environnement - Biodiversité,Pote Âgé,Verger
ATTACH;FMTTYPE=image/jpeg:https://www.lasolid.fr/wp-content/uploads/jardin-3-scaled.jpg
ORGANIZER;CN="La Solid'":MAILTO:asso@lasolid.fr
END:VEVENT
BEGIN:VEVENT
DTSTART;TZID=Europe/Paris:20240218T100000
DTEND;TZID=Europe/Paris:20240218T170000
DTSTAMP:20260420T231905
CREATED:20231223T003756Z
LAST-MODIFIED:20240213T161400Z
UID:10001610-1708250400-1708275600@www.lasolid.fr
SUMMARY:Atelier taille douce au verger du nid d'oie
DESCRIPTION:Chantier citoyen\, intergénérationnel\, et convivial. \nAtelier pédagogique ouvert à tou·tes\, pour apprendre la taille douce des fruitiers et en particulier des pommiers\, avec les conseils d’Audrey Lemée\, arboricultrice bio de Cugand. \nC’est idéal de participer dès le matin et de venir bien équipé·es et avec des outils. \nMais tu peux aussi venir à tout moment et les mains dans les poches\, par simple curiosité. \nPique-nique partagé et possibles grillades le midi.
URL:https://www.lasolid.fr/evenement/atelier-taille-douce-au-verger-du-nid-doie/
LOCATION:Verger du nid d’oie\, Route de nid d'oie\, Clisson\, 44190\, France
CATEGORIES:Atelier des savoirs,Clubs CPN,Verger
ATTACH;FMTTYPE=image/jpeg:https://www.lasolid.fr/wp-content/uploads/taille-verger-1-scaled.jpg
ORGANIZER;CN="La Solid'":MAILTO:asso@lasolid.fr
END:VEVENT
BEGIN:VEVENT
DTSTART;TZID=Europe/Paris:20240219T170000
DTEND;TZID=Europe/Paris:20240219T190000
DTSTAMP:20260420T231905
CREATED:20240213T190245Z
LAST-MODIFIED:20240213T190245Z
UID:10001647-1708362000-1708369200@www.lasolid.fr
SUMMARY:Café Jardin chez Nicole
DESCRIPTION:Rendez-vous intergénérationnel des passionné·es du jardin\, mais aussi des débutant·es qui peuvent venir échanger avec des jardiniers plus expérimenté·es. \nRencontre\, échanges\, partage\, bienvenue à tout moment\, avec ou sans breuvages et grignotages à partager. \nRendez-vous à partir de 18h chez Nicole\, pote âgé en recherche de jardiniers\, au 8 rue de la Herse à Cugand. \nThématique du mois : pourquoi faire un plan de son potager ?
URL:https://www.lasolid.fr/evenement/cafe-jardin-chez-nicole/
LOCATION:Maison de la solidarité\, 1 rue des filatures\, Clisson\, 44190\, France
CATEGORIES:Café jardin,Environnement - Biodiversité
ATTACH;FMTTYPE=image/jpeg:https://www.lasolid.fr/wp-content/uploads/cafe-jardin-1-scaled.jpg
ORGANIZER;CN="La Solid'":MAILTO:asso@lasolid.fr
END:VEVENT
BEGIN:VEVENT
DTSTART;TZID=Europe/Paris:20240222T090000
DTEND;TZID=Europe/Paris:20240222T110000
DTSTAMP:20260420T231905
CREATED:20240213T152849Z
LAST-MODIFIED:20240213T161457Z
UID:10001623-1708592400-1708599600@www.lasolid.fr
SUMMARY:Broyage de végétaux au verger
DESCRIPTION:Fred et les bénévoles de l’équipe Jardins de La Solid’ seront de permanence au verger du Nid d’oie pour broyer les branches taillées le dimanche. \nNous mutualisons notre broyeur thermique auprès de toute personne qui voudrait s’en servir pour ses déchets de taille (maximum 5 cm de diamètre et pas de résineux). Vous pourrez vous en servir et repartir avec votre remorque de BRF\, à prix libre. \nContact : 06 19 15 12 38.
URL:https://www.lasolid.fr/evenement/broyage-de-vegetaux-au-verger/
LOCATION:Verger du nid d’oie\, Route de nid d'oie\, Clisson\, 44190\, France
CATEGORIES:Environnement - Biodiversité,Pote Âgé,Verger
ATTACH;FMTTYPE=image/jpeg:https://www.lasolid.fr/wp-content/uploads/P1130155-scaled.jpg
ORGANIZER;CN="La Solid'":MAILTO:asso@lasolid.fr
END:VEVENT
BEGIN:VEVENT
DTSTART;TZID=Europe/Paris:20240223T140000
DTEND;TZID=Europe/Paris:20240223T180000
DTSTAMP:20260420T231905
CREATED:20240213T164005Z
LAST-MODIFIED:20240213T164027Z
UID:10001630-1708696800-1708711200@www.lasolid.fr
SUMMARY:Chantier solidaire "pote âgé" chez Nicole
DESCRIPTION:Chantier collectif intergénérationnel chez Nicole\, 8 rue de la Herse à Cugand. \nBienvenue à tout moment ! \nNicole recherche des jardiniers pour partager son magnifique jardin\, dans le bourg de Cugand\, dans les prochains mois ou années. viens nous aider cet après-midi : ce sera une bonne occasion de la rencontrer !
URL:https://www.lasolid.fr/evenement/chantier-solidaire-pote-age-chez-nicole/
LOCATION:Jardin Pote âgé\, France
CATEGORIES:Pote Âgé
ATTACH;FMTTYPE=image/jpeg:https://www.lasolid.fr/wp-content/uploads/jardin-3-scaled.jpg
ORGANIZER;CN="La Solid'":MAILTO:asso@lasolid.fr
END:VEVENT
BEGIN:VEVENT
DTSTART;TZID=Europe/Paris:20240224T140000
DTEND;TZID=Europe/Paris:20240224T170000
DTSTAMP:20260420T231905
CREATED:20240131T205001Z
LAST-MODIFIED:20240213T163419Z
UID:10001619-1708783200-1708794000@www.lasolid.fr
SUMMARY:Chantier jardinage solidaire Pote âgés
DESCRIPTION:Chez nos « potes âgés » Christine et Philippe : nouveau jardin à découvrir à St Hilaire de Clisson. \nViens nous/les aider une heure ou plus\, à remettre en route leur potager. Christine et Philippe recherchent des jardiniers pour les aider dans les prochains mois ou années. Ce serait une bonne occasion de les rencontrer ! \nPlus d’infos auprès de Fred : 06 19 15 12 38. \nAdresse : La Mainguionnière à St Hilaire de Clisson. \n 
URL:https://www.lasolid.fr/evenement/chantier-jardinage-solidaire-pote-ages/
LOCATION:Jardin Pote âgé\, France
CATEGORIES:Environnement - Biodiversité,Pote Âgé
ATTACH;FMTTYPE=image/jpeg:https://www.lasolid.fr/wp-content/uploads/pote-age-gaby-scaled.jpg
ORGANIZER;CN="La Solid'":MAILTO:asso@lasolid.fr
END:VEVENT
BEGIN:VEVENT
DTSTART;TZID=Europe/Paris:20240225T140000
DTEND;TZID=Europe/Paris:20240225T170000
DTSTAMP:20260420T231905
CREATED:20240213T173209Z
LAST-MODIFIED:20241112T224520Z
UID:10001634-1708869600-1708880400@www.lasolid.fr
SUMMARY:Rando Clean'up
DESCRIPTION:En plus de prendre l’air et de nous dégourdir les jambes\, nous prenons soin de la nature en ramassant et triant les déchets croisés en chemin.\n\nDe 1 à 20 personnes. Merci d’arriver 15 minutes avant le départ.\n\n\n🥾 L’équipement\nPrévoir une paire de chaussures de marche\, des vêtements et accessoires adaptés aux conditions météorologiques\, à boire et une collation.\nLa Solid’ fournit les sacs poubelles et les gants (mais vous pouvez amener les vôtres qui sont à votre taille).\nLa Solid’ peut également fournir des pinces pour ramasser les déchets – en faire la demande à l’inscription.\nDimanche 25 février : balade clean up ‘à la cool’ 14h-17h\, voir l’itinéraire (10km) => Boucle au départ de la gare de Clisson \nUn.e animateur.rice bénévole distribue le matériel et guide les participant·es sur le parcours.\nL’animateur.rice n’est pas responsable en cas de blessure\, ni de vos enfants dans le cadre d’une sortie « famille ».\n  \nRando suivantes : \ndimanche 24 mars : balade clean up ‘famille’ 14h-16h\, voir l’itinéraire (3km) => Boucle au départ de la gare de Clisson\ndimanche 21 avril : balade clean up ‘d’un bon pas’ 14h-18h\, voir l’itinéraire (14\,8km) => Boucle au départ de la gare de Clisson\ndimanche 26 mai : balade clean up ‘famille’ 14h-16h\, voir l’itinéraire (5\,3km) => Boucle au départ de la gare de Clisson\n\ndimanche 23 juin :  balade clean up ‘sportive’ 13h-18h\, voir l’itinéraire (17\,5km) => Boucle au départ de la gare de Cugand\, sortie adaptée aux randonneur.euses aguerri.es\, rythme de marche soutenu.
URL:https://www.lasolid.fr/evenement/rando-clean-up-3/
CATEGORIES:Environnement - Biodiversité,Tiers Lieu Ateliers Solidaires,Veille environnementale
ATTACH;FMTTYPE=image/jpeg:https://www.lasolid.fr/wp-content/uploads/gens-nettoient-ordures-nature.jpg
ORGANIZER;CN="La Solid'":MAILTO:asso@lasolid.fr
END:VEVENT
BEGIN:VEVENT
DTSTART;TZID=Europe/Paris:20240227T181500
DTEND;TZID=Europe/Paris:20240227T200000
DTSTAMP:20260420T231905
CREATED:20240124T164724Z
LAST-MODIFIED:20240213T161607Z
UID:10001618-1709057700-1709064000@www.lasolid.fr
SUMMARY:Réunion Veille environnementale
DESCRIPTION:Contacte-nous d’abord pour connaître les dossiers en cours\, et rejoindre ce groupe actif de citoyen·nes vigilant·es ! \nLieu de rendez-vous communiqué sur réservation.
URL:https://www.lasolid.fr/evenement/reunion-veille-environnementale-4/
CATEGORIES:Environnement - Biodiversité,Veille environnementale
ATTACH;FMTTYPE=image/jpeg:https://www.lasolid.fr/wp-content/uploads/20221008_105018.jpg
ORGANIZER;CN="La Solid'":MAILTO:asso@lasolid.fr
END:VEVENT
END:VCALENDAR