BEGIN:VCALENDAR
VERSION:2.0
PRODID:-//La Solid&#039; - ECPv6.13.2.1//NONSGML v1.0//EN
CALSCALE:GREGORIAN
METHOD:PUBLISH
X-ORIGINAL-URL:https://www.lasolid.fr
X-WR-CALDESC:Évènements pour La Solid&#039;
REFRESH-INTERVAL;VALUE=DURATION:PT1H
X-Robots-Tag:noindex
X-PUBLISHED-TTL:PT1H
BEGIN:VTIMEZONE
TZID:Europe/Paris
BEGIN:DAYLIGHT
TZOFFSETFROM:+0100
TZOFFSETTO:+0200
TZNAME:CEST
DTSTART:20230326T010000
END:DAYLIGHT
BEGIN:STANDARD
TZOFFSETFROM:+0200
TZOFFSETTO:+0100
TZNAME:CET
DTSTART:20231029T010000
END:STANDARD
END:VTIMEZONE
BEGIN:VEVENT
DTSTART;TZID=Europe/Paris:20231106T180000
DTEND;TZID=Europe/Paris:20231106T200000
DTSTAMP:20260421T035309
CREATED:20230905T173034Z
LAST-MODIFIED:20231031T201403Z
UID:10000969-1699293600-1699300800@www.lasolid.fr
SUMMARY:CAFÉ JARDIN : ANNULÉ
DESCRIPTION:EXCEPTIONNELLEMENT\, PAS DE CAFÉ JARDIN EN NOVEMBRE… \nLes bénévoles de la commission jardins se réuniront le 4 décembre pour établir la suite du programme des rendez-vous aux jardins
URL:https://www.lasolid.fr/evenement/cafe-jardin-construction-dune-grainotheque/
LOCATION:Maison de la solidarité\, 1 rue des filatures\, Clisson\, 44190\, France
CATEGORIES:Atelier des savoirs,Café jardin,Environnement - Biodiversité,Pote Âgé,Tiers Lieu Ateliers Solidaires
ORGANIZER;CN="La Solid'":MAILTO:asso@lasolid.fr
END:VEVENT
BEGIN:VEVENT
DTSTART;TZID=Europe/Paris:20231122T183000
DTEND;TZID=Europe/Paris:20231122T203000
DTSTAMP:20260421T035309
CREATED:20231026T173338Z
LAST-MODIFIED:20231031T201728Z
UID:10000986-1700677800-1700685000@www.lasolid.fr
SUMMARY:Réunion CA
DESCRIPTION:Les bénévoles de la Solid’ (membres du bureau et référent·e d’activités) sont invité·es à contribuer à l’écriture du projet associatif de La Solid’ des 5 prochaines années\, en mode « intelligence collective ». \nInvitation du bureau transmise par e-mail. \nSoirée conviviale\, apporte des choses à grignoter\, la Solid’ s’occupe de la buvette !
URL:https://www.lasolid.fr/evenement/reunion-projet-associatif/
LOCATION:Maison de la solidarité\, 1 rue des filatures\, Clisson\, 44190\, France
CATEGORIES:Atelier des savoirs,Autres,Café jardin,Clubs CPN,Environnement - Biodiversité,Pote Âgé,Réunions,Tiers Lieu Ateliers Solidaires,Vélo,Verger
ATTACH;FMTTYPE=image/jpeg:https://www.lasolid.fr/wp-content/uploads/les-ptits-gars-du-verger-4.jpg
ORGANIZER;CN="La Solid'":MAILTO:asso@lasolid.fr
END:VEVENT
BEGIN:VEVENT
DTSTART;TZID=Europe/Paris:20231129T090000
DTEND;TZID=Europe/Paris:20231129T120000
DTSTAMP:20260421T035309
CREATED:20231115T151450Z
LAST-MODIFIED:20231115T154529Z
UID:10000997-1701248400-1701259200@www.lasolid.fr
SUMMARY:Chantier collectif Toilettes sèches
DESCRIPTION:Viens à tout moment nous aider à installer nos récupérateurs d’eau\, nos composteurs\, notre cabine de toilettes sèches dans nos nouveaux locaux\, à la maison de la solidarité de Clisson. \nMerci d’avance !
URL:https://www.lasolid.fr/evenement/chantier-collectif-toilettes-seches/
LOCATION:Maison de la solidarité\, 1 rue des filatures\, Clisson\, 44190\, France
CATEGORIES:Autres,Environnement - Biodiversité,Tiers Lieu Ateliers Solidaires
ATTACH;FMTTYPE=image/jpeg:https://www.lasolid.fr/wp-content/uploads/les-ptits-gars-du-verger-4.jpg
ORGANIZER;CN="La Solid'":MAILTO:asso@lasolid.fr
END:VEVENT
END:VCALENDAR