BEGIN:VCALENDAR
VERSION:2.0
PRODID:-//La Solid&#039; - ECPv6.13.2.1//NONSGML v1.0//EN
CALSCALE:GREGORIAN
METHOD:PUBLISH
X-WR-CALNAME:La Solid&#039;
X-ORIGINAL-URL:https://www.lasolid.fr
X-WR-CALDESC:Évènements pour La Solid&#039;
REFRESH-INTERVAL;VALUE=DURATION:PT1H
X-Robots-Tag:noindex
X-PUBLISHED-TTL:PT1H
BEGIN:VTIMEZONE
TZID:Europe/Paris
BEGIN:DAYLIGHT
TZOFFSETFROM:+0100
TZOFFSETTO:+0200
TZNAME:CEST
DTSTART:20230326T010000
END:DAYLIGHT
BEGIN:STANDARD
TZOFFSETFROM:+0200
TZOFFSETTO:+0100
TZNAME:CET
DTSTART:20231029T010000
END:STANDARD
END:VTIMEZONE
BEGIN:VEVENT
DTSTART;TZID=Europe/Paris:20231003T180000
DTEND;TZID=Europe/Paris:20231003T190000
DTSTAMP:20260421T051819
CREATED:20230529T150913Z
LAST-MODIFIED:20230824T112927Z
UID:10000007-1696356000-1696359600@www.lasolid.fr
SUMMARY:Café Jardin à la médiathèque de Clisson
DESCRIPTION:Rendez-vous convivial entre jardiniers amateurs ou confirmés. \nPartage\, échanges de truc et astuces… \nCe mois-ci : \n« Comment récolter ses graines au jardin » \nentrée libre\, tout public
URL:https://www.lasolid.fr/evenement/cafe-jardin-a-la-mediatheque-de-clisson/
LOCATION:Médiathèque\, Place Jacques Demy\, Clisson\, 44190\, France
CATEGORIES:Café jardin,Environnement - Biodiversité
ATTACH;FMTTYPE=image/jpeg:https://www.lasolid.fr/wp-content/uploads/jardin-3-scaled.jpg
ORGANIZER;CN="La Solid'":MAILTO:asso@lasolid.fr
END:VEVENT
BEGIN:VEVENT
DTSTART;TZID=Europe/Paris:20231009T090000
DTEND;TZID=Europe/Paris:20231009T130000
DTSTAMP:20260421T051819
CREATED:20230924T222344Z
LAST-MODIFIED:20230924T222929Z
UID:10000977-1696842000-1696856400@www.lasolid.fr
SUMMARY:Chantier de jardinage solidaire chez un Pote âgé
DESCRIPTION:Chantier de jardinage collectif chez un « pote âgé »\, personne âgée chez qui La Solid’ anime des jardins partagés pour leur maintien à domicile. \nAvec le soutien du département. \nAdresse connue sur réservation
URL:https://www.lasolid.fr/evenement/chantier-solidaire-pote-age-2/
LOCATION:Maison de la solidarité\, 1 rue des filatures\, Clisson\, 44190\, France
CATEGORIES:Café jardin,Pote Âgé,Tiers Lieu Ateliers Solidaires
ATTACH;FMTTYPE=image/jpeg:https://www.lasolid.fr/wp-content/uploads/pote-age-gaby-scaled.jpg
ORGANIZER;CN="La Solid'":MAILTO:asso@lasolid.fr
END:VEVENT
BEGIN:VEVENT
DTSTART;TZID=Europe/Paris:20231012T180000
DTEND;TZID=Europe/Paris:20231012T200000
DTSTAMP:20260421T051819
CREATED:20230906T200005Z
LAST-MODIFIED:20230924T223202Z
UID:10000972-1697133600-1697140800@www.lasolid.fr
SUMMARY:Réunion de la commission Veille Environnementale
DESCRIPTION:Rapproche-toi de nous pour connaître les dossiers en cours.
URL:https://www.lasolid.fr/evenement/reunion-de-la-commission-veille-environnementale/
LOCATION:Maison de la solidarité\, 1 rue des filatures\, Clisson\, 44190\, France
CATEGORIES:Environnement - Biodiversité,Réunions
ATTACH;FMTTYPE=image/jpeg:https://www.lasolid.fr/wp-content/uploads/20221008_105018.jpg
ORGANIZER;CN="La Solid'":MAILTO:asso@lasolid.fr
END:VEVENT
BEGIN:VEVENT
DTSTART;TZID=Europe/Paris:20231014T100000
DTEND;TZID=Europe/Paris:20231014T130000
DTSTAMP:20260421T051819
CREATED:20230529T151223Z
LAST-MODIFIED:20230924T223011Z
UID:10000009-1697277600-1697288400@www.lasolid.fr
SUMMARY:Troc plants d'automne
DESCRIPTION:Ouvert à tou·tes\, convivial et familial.
URL:https://www.lasolid.fr/evenement/troc-plants-dautomne/
LOCATION:Maison de la solidarité\, 1 rue des filatures\, Clisson\, 44190\, France
CATEGORIES:Autres,Pote Âgé
ATTACH;FMTTYPE=image/jpeg:https://www.lasolid.fr/wp-content/uploads/TROCPLANT2023automne2-scaled.jpg
ORGANIZER;CN="La Solid'":MAILTO:asso@lasolid.fr
END:VEVENT
BEGIN:VEVENT
DTSTART;TZID=Europe/Paris:20231030T120000
DTEND;TZID=Europe/Paris:20231030T140000
DTSTAMP:20260421T051819
CREATED:20230924T222734Z
LAST-MODIFIED:20230924T222751Z
UID:10000978-1698667200-1698674400@www.lasolid.fr
SUMMARY:Pressage de pommes bios
DESCRIPTION:Fabrication de jus de pommes bio à la presse associative de La Bruffière. Besoin de 4 paires de bras ! Merci ! \nContact : Fred au 06 19 15 12 38
URL:https://www.lasolid.fr/evenement/pressage-de-pommes-bios/
LOCATION:Maison de la solidarité\, 1 rue des filatures\, Clisson\, 44190\, France
CATEGORIES:Autres,Café jardin,Pote Âgé,Tiers Lieu Ateliers Solidaires,Verger
ATTACH;FMTTYPE=image/jpeg:https://www.lasolid.fr/wp-content/uploads/Pomme-scaled.jpg
ORGANIZER;CN="La Solid'":MAILTO:asso@lasolid.fr
END:VEVENT
END:VCALENDAR