BEGIN:VCALENDAR
VERSION:2.0
PRODID:-//La Solid&#039; - ECPv6.13.2.1//NONSGML v1.0//EN
CALSCALE:GREGORIAN
METHOD:PUBLISH
X-WR-CALNAME:La Solid&#039;
X-ORIGINAL-URL:https://www.lasolid.fr
X-WR-CALDESC:Évènements pour La Solid&#039;
REFRESH-INTERVAL;VALUE=DURATION:PT1H
X-Robots-Tag:noindex
X-PUBLISHED-TTL:PT1H
BEGIN:VTIMEZONE
TZID:Europe/Paris
BEGIN:DAYLIGHT
TZOFFSETFROM:+0100
TZOFFSETTO:+0200
TZNAME:CEST
DTSTART:20230326T010000
END:DAYLIGHT
BEGIN:STANDARD
TZOFFSETFROM:+0200
TZOFFSETTO:+0100
TZNAME:CET
DTSTART:20231029T010000
END:STANDARD
END:VTIMEZONE
BEGIN:VEVENT
DTSTART;TZID=Europe/Paris:20230906T200000
DTEND;TZID=Europe/Paris:20230906T213000
DTSTAMP:20260421T070058
CREATED:20230822T091945Z
LAST-MODIFIED:20230823T113055Z
UID:10000949-1694030400-1694035800@www.lasolid.fr
SUMMARY:Réunion Veille environnementale
DESCRIPTION:Ouverte aux bénévoles intéressé·es pour suivre les dossiers environnementaux locaux : \nSCoT\, PLU\, gestion des déchets\, pollutions des rivières\, suivi agenda 2030\, problèmes environnementaux… \nBienvenue ! \nMerci de prendre d’abord contact avec notre association pour être mis au courant des dossiers en cours. \n 
URL:https://www.lasolid.fr/evenement/reunion-veille-environnementale-2/
LOCATION:Maison de la solidarité\, 1 rue des filatures\, Clisson\, 44190\, France
CATEGORIES:Environnement - Biodiversité,Réunions
ATTACH;FMTTYPE=image/jpeg:https://www.lasolid.fr/wp-content/uploads/20221008_105018.jpg
ORGANIZER;CN="La Solid'":MAILTO:asso@lasolid.fr
END:VEVENT
BEGIN:VEVENT
DTSTART;TZID=Europe/Paris:20230911T180000
DTEND;TZID=Europe/Paris:20230911T200000
DTSTAMP:20260421T070058
CREATED:20230910T232058Z
LAST-MODIFIED:20230912T110757Z
UID:10000975-1694455200-1694462400@www.lasolid.fr
SUMMARY:Café Jardin chez Brigitte et Antoine
DESCRIPTION:Bienvenue au 19 clos des changes à Gétigné pour un rendez-vous convivial ouvert à tou·tes. \nAu programme : visite du jardin et mise en sachets des graines destinées aux grainothèques du vignoble. \nChacun·e vient avec quelques chose à boir et/ou à manger à partager.
URL:https://www.lasolid.fr/evenement/cafe-jardin-chez-brigitte-et-antoine/
LOCATION:Maison de la solidarité\, 1 rue des filatures\, Clisson\, 44190\, France
CATEGORIES:Café jardin,Environnement - Biodiversité
ATTACH;FMTTYPE=image/jpeg:https://www.lasolid.fr/wp-content/uploads/jardin-3-scaled.jpg
ORGANIZER;CN="La Solid'":MAILTO:asso@lasolid.fr
END:VEVENT
BEGIN:VEVENT
DTSTART;TZID=Europe/Paris:20230916T140000
DTEND;TZID=Europe/Paris:20230916T170000
DTSTAMP:20260421T070058
CREATED:20230619T122205Z
LAST-MODIFIED:20230823T113826Z
UID:10000939-1694872800-1694883600@www.lasolid.fr
SUMMARY:Récolte des pommes au verger du nid d’oie
DESCRIPTION:Dans le cadre des Journées du Patrimoine. \nOuvert à tou.te.s
URL:https://www.lasolid.fr/evenement/recolte-des-pommes-au-verger-du-nid-doie/
LOCATION:Maison de la solidarité\, 1 rue des filatures\, Clisson\, 44190\, France
CATEGORIES:Environnement - Biodiversité,Verger
ATTACH;FMTTYPE=image/jpeg:https://www.lasolid.fr/wp-content/uploads/Pomme-scaled.jpg
ORGANIZER;CN="La Solid'":MAILTO:asso@lasolid.fr
END:VEVENT
BEGIN:VEVENT
DTSTART;TZID=Europe/Paris:20230916T173000
DTEND;TZID=Europe/Paris:20230916T193000
DTSTAMP:20260421T070058
CREATED:20230619T122307Z
LAST-MODIFIED:20230830T123046Z
UID:10000940-1694885400-1694892600@www.lasolid.fr
SUMMARY:Conseil Associatif de rentrée
DESCRIPTION:Ouvert à tou·tes nos adhérent·es\, de longue ou fraîche date. \nParticipatif\, convivial\, constructif… Chacun·e contribue à sa manière au bon fonctionnement de La Solid’. Les prises de décision se font par « consentement ». Découvre ici ce processus. \nEn cette rentrée\, nous calerons ensemble le (bon !) fonctionnement de nos activités 2023-2024 : validation des référent·es\, inscription des bénévoles\, validation des nouvelles activités… \nLe CA sera suivi d’un repas partagé\, d’un boeuf musical : amène ta bouteille\, ta popote\, ton instrument ou juste ton envie de contribuer et de partager ! \nLa soirée se prolongera par un karaoké proposé par les Super Féministes de La Solid’\, ouvert à tou·tes ! \nRendez-vous collégial suivant : mercredi 27 septembre à 18h pour avancer (finaliser ?) notre projet associatif des 5 prochaines années – rien que ça !
URL:https://www.lasolid.fr/evenement/conseil-associatif-de-rentree/
LOCATION:Maison de la solidarité\, 1 rue des filatures\, Clisson\, 44190\, France
CATEGORIES:Autres,Environnement - Biodiversité,Réunions,Tiers Lieu Ateliers Solidaires,Vélo
ATTACH;FMTTYPE=image/jpeg:https://www.lasolid.fr/wp-content/uploads/IMG20210830191728-scaled.jpg
ORGANIZER;CN="La Solid'":MAILTO:asso@lasolid.fr
END:VEVENT
BEGIN:VEVENT
DTSTART;TZID=Europe/Paris:20230920T190000
DTEND;TZID=Europe/Paris:20230920T200000
DTSTAMP:20260421T070058
CREATED:20230906T103418Z
LAST-MODIFIED:20230906T105938Z
UID:10000970-1695236400-1695240000@www.lasolid.fr
SUMMARY:Réunion sur l'avenir du verger du nid d'oie
DESCRIPTION:Ouverte à tou·tes les bénévoles intéressé·es par ce projet de sauvegarde et d’animation d’un verger pédagogique et conservatoire en centre-ville.
URL:https://www.lasolid.fr/evenement/reunion-sur-lavenir-du-verger-du-nid-doie/
LOCATION:Maison de la solidarité\, 1 rue des filatures\, Clisson\, 44190\, France
CATEGORIES:Environnement - Biodiversité,Verger
ATTACH;FMTTYPE=image/jpeg:https://www.lasolid.fr/wp-content/uploads/animation-famille-la-solid.jpg
ORGANIZER;CN="La Solid'":MAILTO:asso@lasolid.fr
END:VEVENT
BEGIN:VEVENT
DTSTART;TZID=Europe/Paris:20230927T180000
DTEND;TZID=Europe/Paris:20230927T200000
DTSTAMP:20260421T070058
CREATED:20230707T115904Z
LAST-MODIFIED:20230824T110147Z
UID:10000941-1695837600-1695844800@www.lasolid.fr
SUMMARY:Réunion "projet associatif" de La Solid'
DESCRIPTION:
URL:https://www.lasolid.fr/evenement/reunion-projet-associatif-de-la-solid/
LOCATION:Maison de la solidarité\, 1 rue des filatures\, Clisson\, 44190\, France
CATEGORIES:Autres,Environnement - Biodiversité,Tiers Lieu Ateliers Solidaires,Vélo
ATTACH;FMTTYPE=image/jpeg:https://www.lasolid.fr/wp-content/uploads/IMG20210830191728-1-scaled.jpg
ORGANIZER;CN="La Solid'":MAILTO:asso@lasolid.fr
END:VEVENT
BEGIN:VEVENT
DTSTART;TZID=Europe/Paris:20230930T100000
DTEND;TZID=Europe/Paris:20230930T130000
DTSTAMP:20260421T070058
CREATED:20230924T222238Z
LAST-MODIFIED:20230928T205816Z
UID:10000976-1696068000-1696078800@www.lasolid.fr
SUMMARY:Chantier solidaire Pote âgé
DESCRIPTION:Chantier de jardinage collectif chez un « pote âgé »\, personne âgée chez qui La Solid’ anime des jardins partagés pour leur maintien à domicile. \nAvec le soutien du département. \nAdresse connue sur réservation
URL:https://www.lasolid.fr/evenement/chantier-solidaire-pote-age/
LOCATION:Maison de la solidarité\, 1 rue des filatures\, Clisson\, 44190\, France
CATEGORIES:Pote Âgé
ATTACH;FMTTYPE=image/jpeg:https://www.lasolid.fr/wp-content/uploads/pote-age-gaby-scaled.jpg
ORGANIZER;CN="La Solid'":MAILTO:asso@lasolid.fr
END:VEVENT
END:VCALENDAR