BEGIN:VCALENDAR
VERSION:2.0
PRODID:-//La Solid&#039; - ECPv6.13.2.1//NONSGML v1.0//EN
CALSCALE:GREGORIAN
METHOD:PUBLISH
X-ORIGINAL-URL:https://www.lasolid.fr
X-WR-CALDESC:Évènements pour La Solid&#039;
REFRESH-INTERVAL;VALUE=DURATION:PT1H
X-Robots-Tag:noindex
X-PUBLISHED-TTL:PT1H
BEGIN:VTIMEZONE
TZID:Europe/Paris
BEGIN:DAYLIGHT
TZOFFSETFROM:+0100
TZOFFSETTO:+0200
TZNAME:CEST
DTSTART:20260329T010000
END:DAYLIGHT
BEGIN:STANDARD
TZOFFSETFROM:+0200
TZOFFSETTO:+0100
TZNAME:CET
DTSTART:20261025T010000
END:STANDARD
END:VTIMEZONE
BEGIN:VEVENT
DTSTART;TZID=Europe/Paris:20260620T140000
DTEND;TZID=Europe/Paris:20260620T170000
DTSTAMP:20260420T033429
CREATED:20250918T165303Z
LAST-MODIFIED:20251114T173706Z
UID:10002123-1781964000-1781974800@www.lasolid.fr
SUMMARY:Atelier couture Fil Good
DESCRIPTION:Atelier couture coopératif et solidaire\, ouvert à tou·tes\, initié·es ou débutant·es\, dans un esprit de partage. Matériel et conseils mutualisés. \nAtelier libre\, un samedi après-midi par mois\, à prix libre. \nInscription (non obligatoire) : asso@lasolid.fr / 06 33 56 20 56. \nDates automne 2025 : 20/9\, 18/10\, 15/11 et 13/12. Dates 2026 : 17/1\, 14/2\, 21/3\, 18/4\, 23/5\, 20/6.
URL:https://www.lasolid.fr/evenement/atelier-couture-fil-good/2026-06-20/
LOCATION:Maison de la solidarité\, 1 rue des filatures\, Clisson\, 44190\, France
CATEGORIES:Fil Good
ATTACH;FMTTYPE=image/jpeg:https://www.lasolid.fr/wp-content/uploads/P1000678-scaled.jpg
ORGANIZER;CN="La Solid'":MAILTO:asso@lasolid.fr
END:VEVENT
END:VCALENDAR