BEGIN:VCALENDAR
VERSION:2.0
PRODID:-//La Solid&#039; - ECPv6.13.2.1//NONSGML v1.0//EN
CALSCALE:GREGORIAN
METHOD:PUBLISH
X-ORIGINAL-URL:https://www.lasolid.fr
X-WR-CALDESC:Évènements pour La Solid&#039;
REFRESH-INTERVAL;VALUE=DURATION:PT1H
X-Robots-Tag:noindex
X-PUBLISHED-TTL:PT1H
BEGIN:VTIMEZONE
TZID:Europe/Paris
BEGIN:DAYLIGHT
TZOFFSETFROM:+0100
TZOFFSETTO:+0200
TZNAME:CEST
DTSTART:20260329T010000
END:DAYLIGHT
BEGIN:STANDARD
TZOFFSETFROM:+0200
TZOFFSETTO:+0100
TZNAME:CET
DTSTART:20261025T010000
END:STANDARD
END:VTIMEZONE
BEGIN:VEVENT
DTSTART;TZID=Europe/Paris:20260502T100000
DTEND;TZID=Europe/Paris:20260502T170000
DTSTAMP:20260420T001709
CREATED:20251203T195620Z
LAST-MODIFIED:20260409T222405Z
UID:10002201-1777716000-1777741200@www.lasolid.fr
SUMMARY:Atelier soudure Good Steel
DESCRIPTION:Atelier de réparation\, création et de découverte de la soudure à l’arc animé par Gaël\, ouvert à tou·tes les adhérent·es\, à prix libre ! \n10h-17h – possibilité de rester déjeuner à la Solid’ le midi (cuisine et jardin sur place). \nViens faire des étincelles et construire des trucs super utiles\, comme un démonte-palettes\, une remorque pour ton vélo\, réparer ton vieux portail\, ta chaise de jardin en fer forgé ou réaliser une jolie œuvre d’art. \nAtelier destiné à toutes celles et ceux qui souhaitent apprendre à souder et travailler le métal.\nIci\, on ne soude pas pour rien. Tous les participant·es repartent avec une création faite de leurs propres mains. \nAtelier de 10H à 17H\, Prévoir chaussure de sécurité et vêtement de travail épais (Ex : bleu de travail) \nNombre de places limité\, inscription vivement conseillée\, \nDates 2026 : 17/1\, 14/2\, 14/3\, 4/4\, 2/5\, 27/6\, 29/8 \nRéservation pour le 2 mai : https://lasolid.assoconnect.com/collect/description/645176-g-atelier-soudure-good-steel
URL:https://www.lasolid.fr/evenement/atelier-soudure-good-steel-4-6/
LOCATION:Maison de la solidarité\, 1 rue des filatures\, Clisson\, 44190\, France
CATEGORIES:Good Steel,Tiers Lieu Ateliers Solidaires
ATTACH;FMTTYPE=image/jpeg:https://www.lasolid.fr/wp-content/uploads/good-steel-1-scaled.jpg
ORGANIZER;CN="La Solid'":MAILTO:asso@lasolid.fr
END:VEVENT
END:VCALENDAR