BEGIN:VCALENDAR
VERSION:2.0
PRODID:-//La Solid&#039; - ECPv6.13.2.1//NONSGML v1.0//EN
CALSCALE:GREGORIAN
METHOD:PUBLISH
X-WR-CALNAME:La Solid&#039;
X-ORIGINAL-URL:https://www.lasolid.fr
X-WR-CALDESC:Évènements pour La Solid&#039;
REFRESH-INTERVAL;VALUE=DURATION:PT1H
X-Robots-Tag:noindex
X-PUBLISHED-TTL:PT1H
BEGIN:VTIMEZONE
TZID:Europe/Paris
BEGIN:DAYLIGHT
TZOFFSETFROM:+0100
TZOFFSETTO:+0200
TZNAME:CEST
DTSTART:20260329T010000
END:DAYLIGHT
BEGIN:STANDARD
TZOFFSETFROM:+0200
TZOFFSETTO:+0100
TZNAME:CET
DTSTART:20261025T010000
END:STANDARD
END:VTIMEZONE
BEGIN:VEVENT
DTSTART;TZID=Europe/Paris:20260320T190000
DTEND;TZID=Europe/Paris:20260320T210000
DTSTAMP:20260420T033302
CREATED:20251114T184236Z
LAST-MODIFIED:20260309T140610Z
UID:10002132-1774033200-1774040400@www.lasolid.fr
SUMMARY:Atelier des savoirs : péri-ménopause et ménopause
DESCRIPTION:Les Super Féministes préparent et animent un Atelier des savoirs de partage et de co-apprentissage sur un sujet encore tabou : la ménopause et la ou les périodes parfois longues qui la précède. \nAtelier ouvert à tou·tes\,sur réservation\, ici : https://lasolid.assoconnect.com/collect/description/654877-s-atelier-des-savoirs-peri-menopause-et-menopause \nBreuvage et grignotages en partage bienvenus !
URL:https://www.lasolid.fr/evenement/atelier-des-savoirs-peri-menopause-et-menopause/
LOCATION:Maison de la solidarité\, 1 rue des filatures\, Clisson\, 44190\, France
CATEGORIES:Atelier des savoirs,Rdv des Super Féministes,Tiers Lieu Ateliers Solidaires
ATTACH;FMTTYPE=image/jpeg:https://www.lasolid.fr/wp-content/uploads/atelier-menopause1.jpg
ORGANIZER;CN="La Solid'":MAILTO:asso@lasolid.fr
END:VEVENT
END:VCALENDAR