BEGIN:VCALENDAR
VERSION:2.0
PRODID:-//La Solid&#039; - ECPv6.13.2.1//NONSGML v1.0//EN
CALSCALE:GREGORIAN
METHOD:PUBLISH
X-ORIGINAL-URL:https://www.lasolid.fr
X-WR-CALDESC:Évènements pour La Solid&#039;
REFRESH-INTERVAL;VALUE=DURATION:PT1H
X-Robots-Tag:noindex
X-PUBLISHED-TTL:PT1H
BEGIN:VTIMEZONE
TZID:Europe/Paris
BEGIN:DAYLIGHT
TZOFFSETFROM:+0100
TZOFFSETTO:+0200
TZNAME:CEST
DTSTART:20260329T010000
END:DAYLIGHT
BEGIN:STANDARD
TZOFFSETFROM:+0200
TZOFFSETTO:+0100
TZNAME:CET
DTSTART:20261025T010000
END:STANDARD
END:VTIMEZONE
BEGIN:VEVENT
DTSTART;VALUE=DATE:20260217
DTEND;VALUE=DATE:20260306
DTSTAMP:20260420T033433
CREATED:20260217T203824Z
LAST-MODIFIED:20260217T211314Z
UID:10002286-1771286400-1772755199@www.lasolid.fr
SUMMARY:Il reste des places pour l'atelier du mouvement
DESCRIPTION:Comme il reste quelques place\, on ouvre l’atelier du mouvement à toutes et tous\, sans limite d’âge ! C’est gratuit\, les jeudis matins jusqu’en avril. Renseignements auprès de Sophie : 06 83 02 67 10.
URL:https://www.lasolid.fr/evenement/il-reste-des-places-pour-latelier-du-mouvement/
LOCATION:Maison de la solidarité\, 1 rue des filatures\, Clisson\, 44190\, France
CATEGORIES:Atelier des savoirs,Autres,Tiers Lieu Ateliers Solidaires
ATTACH;FMTTYPE=image/jpeg:https://www.lasolid.fr/wp-content/uploads/modele-affiches-environnement13.jpg
ORGANIZER;CN="La Solid'":MAILTO:asso@lasolid.fr
END:VEVENT
BEGIN:VEVENT
DTSTART;TZID=Europe/Paris:20260221T140000
DTEND;TZID=Europe/Paris:20260221T180000
DTSTAMP:20260420T033433
CREATED:20251114T205013Z
LAST-MODIFIED:20260311T150931Z
UID:10002216-1771682400-1771696800@www.lasolid.fr
SUMMARY:Atelier mécanique vélo pour femmes et minorités de genre
DESCRIPTION:Avec les Super Féministes de La Solid’ : atelier d’apprentissage de la réparation de vélos pour les femmes et minorités de genres. \nApprends à réparer et entretenir ton vélo ! Atelier pédagogique ouvert aux femmes et minorités de genres à La Solid’\, à prix libre. Une question ? Envoie un SMS à Marie : 06 33 38 35 47. \nClaire ou Marie t’attendent avec ou sans vélo. Changer ta chaîne\, régler ton dérailleur\, aider un.e camarade à dévoiler sa roue\, tu peux le faire. Si tu n’y arrives pas\, si tu fais des bêtises\, pas de souci\, c’est comme ça qu’on apprend ! \nEntraide\, bienveillance\, convivialité sont de mise lors de ces soirées entre femmes et minorités de genre. \nPièces d’usure et pièces d’occasion à petit prix en vente sur place. Tu peux aussi venir avec tes pièces à changer. Pense à apporter de la monnaie pour le prix libre et mettre ton adhésion à jour. \n*Meufs\, Intersexes\, Non-Binaires et Trans
URL:https://www.lasolid.fr/evenement/atelier-mecanique-velo-pour-femmes-et-minorites-de-genre-2/2026-02-21/
LOCATION:Maison de la solidarité\, 1 rue des filatures\, Clisson\, 44190\, France
CATEGORIES:Rdv des Super Féministes,Tiers Lieu Ateliers Solidaires,Vélo
ATTACH;FMTTYPE=image/jpeg:https://www.lasolid.fr/wp-content/uploads/Modeles-daffiches-Velo6.jpg
ORGANIZER;CN="La Solid'":MAILTO:asso@lasolid.fr
END:VEVENT
END:VCALENDAR