BEGIN:VCALENDAR
VERSION:2.0
PRODID:-//La Solid&#039; - ECPv6.13.2.1//NONSGML v1.0//EN
CALSCALE:GREGORIAN
METHOD:PUBLISH
X-ORIGINAL-URL:https://www.lasolid.fr
X-WR-CALDESC:Évènements pour La Solid&#039;
REFRESH-INTERVAL;VALUE=DURATION:PT1H
X-Robots-Tag:noindex
X-PUBLISHED-TTL:PT1H
BEGIN:VTIMEZONE
TZID:Europe/Paris
BEGIN:DAYLIGHT
TZOFFSETFROM:+0100
TZOFFSETTO:+0200
TZNAME:CEST
DTSTART:20250330T010000
END:DAYLIGHT
BEGIN:STANDARD
TZOFFSETFROM:+0200
TZOFFSETTO:+0100
TZNAME:CET
DTSTART:20251026T010000
END:STANDARD
BEGIN:DAYLIGHT
TZOFFSETFROM:+0100
TZOFFSETTO:+0200
TZNAME:CEST
DTSTART:20260329T010000
END:DAYLIGHT
BEGIN:STANDARD
TZOFFSETFROM:+0200
TZOFFSETTO:+0100
TZNAME:CET
DTSTART:20261025T010000
END:STANDARD
END:VTIMEZONE
BEGIN:VEVENT
DTSTART;VALUE=DATE:20251210
DTEND;VALUE=DATE:20260201
DTSTAMP:20260420T051726
CREATED:20251210T185309Z
LAST-MODIFIED:20260106T202035Z
UID:10002255-1765324800-1769903999@www.lasolid.fr
SUMMARY:Inscriptions Atelier du mouvement
DESCRIPTION:Les inscriptions sont ouvertes\, pour ce nouvel atelier entièrement gratuit\, réservé aux personnes de plus de 60 ans. L’atelier du mouvement aura lieu les jeudis matins à la Solid’\, et sera animé par Sophie. 10 séances sur chaise. Nombre de places limité ! \nRéservation : asso@lasolid.fr ou directement auprès de Sophie : 06 83 02 67 10. \n \nAutres activités concoctées spécialement pour les personnes de plus de 60 ans : \n \n 
URL:https://www.lasolid.fr/evenement/inscriptions-atelier-du-mouvement/
LOCATION:Maison de la solidarité\, 1 rue des filatures\, Clisson\, 44190\, France
CATEGORIES:Autres,Tiers Lieu Ateliers Solidaires
ATTACH;FMTTYPE=image/jpeg:https://www.lasolid.fr/wp-content/uploads/mouvement.jpg
ORGANIZER;CN="La Solid'":MAILTO:asso@lasolid.fr
END:VEVENT
BEGIN:VEVENT
DTSTART;TZID=Europe/Paris:20260117T100000
DTEND;TZID=Europe/Paris:20260117T170000
DTSTAMP:20260420T051726
CREATED:20251203T195000Z
LAST-MODIFIED:20251203T195001Z
UID:10002197-1768644000-1768669200@www.lasolid.fr
SUMMARY:Atelier soudure Good Steel
DESCRIPTION:Atelier de réparation\, création et de découverte de la soudure à l’arc animé par Gaël\, ouvert à tou·tes les adhérent·es\, à prix libre ! \n10h-17h – possibilité de rester déjeuner à la Solid’ le midi (cuisine et jardin sur place). \nViens faire des étincelles et construire des trucs super utiles\, comme un démonte-palettes\, une remorque pour ton vélo\, réparer ton vieux portail\, ta chaise de jardin en fer forgé ou réaliser une jolie œuvre d’art. \nAtelier destiné à toutes celles et ceux qui souhaitent apprendre à souder et travailler le métal.\nIci\, on ne soude pas pour rien. Tous les participant·es repartent avec une création faite de leurs propres mains. \nAtelier de 10H à 17H\, Prévoir chaussure de sécurité et vêtement de travail épais (Ex : bleu de travail) \nNombre de places limité\, inscription vivement conseillée\, \nDates 2026 : 17/1\, 14/2\, 14/3\, 4/4\, 2/5\, 27/6\, 29/8 \nInscription pour le 17 janvier : https://lasolid.assoconnect.com/collect/description/645163-g-atelier-soudure-good-steel \n 
URL:https://www.lasolid.fr/evenement/atelier-soudure-good-steel-4-3/
LOCATION:Maison de la solidarité\, 1 rue des filatures\, Clisson\, 44190\, France
CATEGORIES:Good Steel,Tiers Lieu Ateliers Solidaires
ATTACH;FMTTYPE=image/jpeg:https://www.lasolid.fr/wp-content/uploads/good-steel-1-scaled.jpg
ORGANIZER;CN="La Solid'":MAILTO:asso@lasolid.fr
END:VEVENT
BEGIN:VEVENT
DTSTART;TZID=Europe/Paris:20260117T140000
DTEND;TZID=Europe/Paris:20260117T170000
DTSTAMP:20260420T051726
CREATED:20250918T165303Z
LAST-MODIFIED:20251114T173706Z
UID:10002118-1768658400-1768669200@www.lasolid.fr
SUMMARY:Atelier couture Fil Good
DESCRIPTION:Atelier couture coopératif et solidaire\, ouvert à tou·tes\, initié·es ou débutant·es\, dans un esprit de partage. Matériel et conseils mutualisés. \nAtelier libre\, un samedi après-midi par mois\, à prix libre. \nInscription (non obligatoire) : asso@lasolid.fr / 06 33 56 20 56. \nDates automne 2025 : 20/9\, 18/10\, 15/11 et 13/12. Dates 2026 : 17/1\, 14/2\, 21/3\, 18/4\, 23/5\, 20/6.
URL:https://www.lasolid.fr/evenement/atelier-couture-fil-good/2026-01-17/
LOCATION:Maison de la solidarité\, 1 rue des filatures\, Clisson\, 44190\, France
CATEGORIES:Fil Good
ATTACH;FMTTYPE=image/jpeg:https://www.lasolid.fr/wp-content/uploads/P1000678-scaled.jpg
ORGANIZER;CN="La Solid'":MAILTO:asso@lasolid.fr
END:VEVENT
END:VCALENDAR