BEGIN:VCALENDAR
VERSION:2.0
PRODID:-//La Solid&#039; - ECPv6.13.2.1//NONSGML v1.0//EN
CALSCALE:GREGORIAN
METHOD:PUBLISH
X-WR-CALNAME:La Solid&#039;
X-ORIGINAL-URL:https://www.lasolid.fr
X-WR-CALDESC:Évènements pour La Solid&#039;
REFRESH-INTERVAL;VALUE=DURATION:PT1H
X-Robots-Tag:noindex
X-PUBLISHED-TTL:PT1H
BEGIN:VTIMEZONE
TZID:Europe/Paris
BEGIN:DAYLIGHT
TZOFFSETFROM:+0100
TZOFFSETTO:+0200
TZNAME:CEST
DTSTART:20250330T010000
END:DAYLIGHT
BEGIN:STANDARD
TZOFFSETFROM:+0200
TZOFFSETTO:+0100
TZNAME:CET
DTSTART:20251026T010000
END:STANDARD
END:VTIMEZONE
BEGIN:VEVENT
DTSTART;VALUE=DATE:20251121
DTEND;VALUE=DATE:20260101
DTSTAMP:20260420T151857
CREATED:20251121T163554Z
LAST-MODIFIED:20251121T163705Z
UID:10002245-1763683200-1767225599@www.lasolid.fr
SUMMARY:Inscriptions auto-formation à la Conférence gesticulée
DESCRIPTION:Bonjour à toustes ! \nVoici le formulaire d’inscription pour participer au groupe d’entraide « Monte ta conférence gesticulée ». Cette auto-formation collective animée par Matthieu est gratuite\, et se déroulera entre janvier et septembre 2026\, à Clisson : \nhttps://cryptpad.fr/form/#/2/form/view/n9UhooWfKhCmF7CkzTihmdDgsvEVYxos1-P1tjqikaQ/ \nFormation ouverte à 10 personnes maximum. \n**Premières soirées à la Solid : \n\n12 janvier 19h > 21h30 (session 1)\n26 janvier 19h > 21h30 (session 2)\n9 février 19h > 21h30 (session 3)\n\n-> Tu auras la possibilité de te désengager jusqu’au 10 février\, si le cadre ne te convient pas\, si tu vois qu’en termes de disponibilité ça va être compliqué ou si tu perds ton énergie / ta motivation d’ici cette date
URL:https://www.lasolid.fr/evenement/3296/
LOCATION:Maison de la solidarité\, 1 rue des filatures\, Clisson\, 44190\, France
CATEGORIES:Atelier des savoirs,Tiers Lieu Ateliers Solidaires
ATTACH;FMTTYPE=image/jpeg:https://www.lasolid.fr/wp-content/uploads/matthieuf2.jpg
ORGANIZER;CN="La Solid'":MAILTO:asso@lasolid.fr
END:VEVENT
BEGIN:VEVENT
DTSTART;TZID=Europe/Paris:20251127T190000
DTEND;TZID=Europe/Paris:20251127T210000
DTSTAMP:20260420T151857
CREATED:20251101T201859Z
LAST-MODIFIED:20251101T201900Z
UID:10002106-1764270000-1764277200@www.lasolid.fr
SUMMARY:Réunion des Super Féministes
DESCRIPTION:Pour organiser toutes les actions des Super Féministes\, il faut bien faire des réunions de temps en temps ! \nLes Super Féministes se réunissent toutes les cinq semaines\, en alternance de mercredi et de jeudi\, à 19h à la Solid’. Grignotage et boissons bienvenues ! Voici les prochaines dates : \n– jeudi 27 novembre \nIl est possible de rejoindre le groupe toute l’année\, de ne venir qu’à une réunion ou juste une de temps en temps 🙂 \nOuverte aux adhérent-es de La Solid’ en phase avec la charte des Super Féministes. \nPlus d’infos ? asso@lasolid.fr \n 
URL:https://www.lasolid.fr/evenement/reunion-des-super-feministes-5-2-2/
LOCATION:Maison de la solidarité\, 1 rue des filatures\, Clisson\, 44190\, France
CATEGORIES:Autres,Rdv des Super Féministes,Réunions
ATTACH;FMTTYPE=image/png:https://www.lasolid.fr/wp-content/uploads/super-feministes-solid-transparent.png
ORGANIZER;CN="La Solid'":MAILTO:asso@lasolid.fr
END:VEVENT
END:VCALENDAR