BEGIN:VCALENDAR
VERSION:2.0
PRODID:-//La Solid&#039; - ECPv6.13.2.1//NONSGML v1.0//EN
CALSCALE:GREGORIAN
METHOD:PUBLISH
X-WR-CALNAME:La Solid&#039;
X-ORIGINAL-URL:https://www.lasolid.fr
X-WR-CALDESC:Évènements pour La Solid&#039;
REFRESH-INTERVAL;VALUE=DURATION:PT1H
X-Robots-Tag:noindex
X-PUBLISHED-TTL:PT1H
BEGIN:VTIMEZONE
TZID:Europe/Paris
BEGIN:DAYLIGHT
TZOFFSETFROM:+0100
TZOFFSETTO:+0200
TZNAME:CEST
DTSTART:20250330T010000
END:DAYLIGHT
BEGIN:STANDARD
TZOFFSETFROM:+0200
TZOFFSETTO:+0100
TZNAME:CET
DTSTART:20251026T010000
END:STANDARD
END:VTIMEZONE
BEGIN:VEVENT
DTSTART;TZID=Europe/Paris:20251115T100000
DTEND;TZID=Europe/Paris:20251115T170000
DTSTAMP:20260421T100358
CREATED:20250515T195227Z
LAST-MODIFIED:20251027T115339Z
UID:10002086-1763200800-1763226000@www.lasolid.fr
SUMMARY:Atelier soudure Good Steel
DESCRIPTION:Atelier de réparation\, création et de découverte de la soudure à l’arc animé par Gaël\, ouvert à tou·tes les adhérent·es\, à prix libre ! \n10h-17h – possibilité de rester déjeuner à la Solid’ le midi (cuisine et jardin sur place). \nViens faire des étincelles et construire des trucs super utiles\, comme un démonte-palettes\, une remorque pour ton vélo\, réparer ton vieux portail\, ta chaise de jardin en fer forgé ou réaliser une jolie œuvre d’art. \nAtelier destiné à toutes celles et ceux qui souhaitent apprendre à souder et travailler le métal.\nIci\, on ne soude pas pour rien. Tous les participant·es repartent avec une création faite de leurs propres mains. \nAtelier de 10H à 17H\, Prévoir chaussure de sécurité et vêtement de travail épais (Ex : bleu de travail) \nNombre de places limité\, inscription vivement conseillée\, en ligne ici : https://lasolid.assoconnect.com/collect/description/615010-g-atelier-soudure-good-steel \nDates 2025 : 30/08\, 13/09\, 11/10\, 15/11\, 13/12 \n 
URL:https://www.lasolid.fr/evenement/atelier-soudure-good-steel-2-3-2-3/
LOCATION:Maison de la solidarité\, 1 rue des filatures\, Clisson\, 44190\, France
CATEGORIES:Good Steel,Tiers Lieu Ateliers Solidaires
ATTACH;FMTTYPE=image/jpeg:https://www.lasolid.fr/wp-content/uploads/good-steel-1-scaled.jpg
ORGANIZER;CN="La Solid'":MAILTO:asso@lasolid.fr
END:VEVENT
BEGIN:VEVENT
DTSTART;TZID=Europe/Paris:20251115T103000
DTEND;TZID=Europe/Paris:20251115T213000
DTSTAMP:20260421T100358
CREATED:20250622T155826Z
LAST-MODIFIED:20251111T142754Z
UID:10002029-1763202600-1763242200@www.lasolid.fr
SUMMARY:Gestival : festival de conférences gesticulées (sorties de chantier)
DESCRIPTION:C’est la restitution de plusieurs mois de formation à la conférence gesticulée\, animée par Matthieu à la Solid’ en 2025. \n5 gesticulant·es vous proposeront leur conférence gesticulée\, dans la salle au-dessus de la médiathèque\, samedi 15 novembre à partir de 11h (1ère conf). \n\n\n\n\nAu programme : \n11h – Coach Lolo vous parle (1h15) Le Baskin : outil à l’inclusion par Laurence \n14h – Bouffons du capitalisme ! (1h30) Les dessous de la table Par Loïc \n16h – Réensauvager nos rêves (1h15) Libérer nos imaginaires pour régénérer la Terre Par Benjamin \n18h – Sport\, libéralisme et bonnes poires (1h30) Tout miser sur le jeu Par Matthieu et Maxence \n20h – Vous marinez chez vos harengs ? (1h15) Rompre les rapports de domination au cœur de la séduction\nPar Samantha \nBienvenue à tout moment. Prix libre et conscient ! \n\nPROGRAMME DÉTAILLÉ : \n\n\n\n\n11h – Coach Lolo vous parle – Le Baskin : outil à l’inclusion \npar Laurence\nEn bref : depuis toujours baignée dans le milieu du basket j’en suis pourtant arrivée à tomber en amour du Baskin\, du basket inclusif. Un sport qui permet d’accueillir les fragilités\, la diversité. On parle de plus en plus de société inclusive mais entre le décréter et le mettre en place\, c’est pas si simple ! \n14h – Bouffons du capitalisme ! – Les dessous de la table \nPar Loïc\nEn bref : Sommes-nous devenus les « bouffons » du capitalisme en acceptant de manger n’importe quoi\, n’importe comment\, sans réfléchir ? Pourquoi accepter de bouffer des trucs qui ne sont pas bons pour notre santé et qui font grossir les dividendes des actionnaires ? Comment acceptons nous d’être manipulés pour nous comporter de façon aussi peu sensée ? Comment nous sortir de cette logique mortifère ? Serrez-vous bien la ceinture\, ça va secouer ! \n16h – Réensauvager nos rêves – Libérer nos imaginaires pour régénérer la Terre \nPar Benjamin\nEn bref : Et si nos rêves n’étaient pas toujours les nôtres ? Entre récits préfabriqués et quête de sens\, je vous partage comment mon rêve d’enfant de devenir footballeur professionnel s’est transformé… en celui de planter un terrain de foot de forêt comestible dans toutes les communes de France. \n18h – Sport\, libéralisme et bonnes poires – Tout miser sur le jeu \nPar Matthieu et Maxence\nEn bref : Souvent présenté comme un formidable outil d’émancipation sociale au service du vivre- ensemble\, le sport semble avoir un rôle important dans notre société. Mais pourquoi donc les politiques et les médias dominants le chérissent-ils à ce point ? Y aurait-il une motte de terre sous les crampons ? Un rugbyman et un footballeur ont (trop) longtemps cru dans leur bonne étoile pour vivre sous le feu des projecteurs. Et puis\, un beau jour\, ils ont compris que ce rêve n’était pas le leur. \n20h – Vous marinez chez vos harengs ? (1h15) – Rompre les rapports de domination au cœur de la séduction \nPar Samantha\nEn bref : Les rapports de force se retrouvent dans nombre de rapport humain. Ensemble\, nous allons essayer de voir comment les identifier pour en finir avec les rapports de domination dans la séduction.
URL:https://www.lasolid.fr/evenement/gestival-festival-de-conferences-gesticulees/
LOCATION:cercle olivier de clisson\, place Jacques demy\, Clisson\, 44190
CATEGORIES:Atelier des savoirs,Tiers Lieu Ateliers Solidaires
ATTACH;FMTTYPE=image/png:https://www.lasolid.fr/wp-content/uploads/Capture-decran-2025-10-09-a-17.13.57.png
ORGANIZER;CN="La Solid'":MAILTO:asso@lasolid.fr
END:VEVENT
BEGIN:VEVENT
DTSTART;TZID=Europe/Paris:20251115T140000
DTEND;TZID=Europe/Paris:20251115T170000
DTSTAMP:20260421T100358
CREATED:20250918T165303Z
LAST-MODIFIED:20251114T173706Z
UID:10002080-1763215200-1763226000@www.lasolid.fr
SUMMARY:Atelier couture Fil Good
DESCRIPTION:Atelier couture coopératif et solidaire\, ouvert à tou·tes\, initié·es ou débutant·es\, dans un esprit de partage. Matériel et conseils mutualisés. \nAtelier libre\, un samedi après-midi par mois\, à prix libre. \nInscription (non obligatoire) : asso@lasolid.fr / 06 33 56 20 56. \nDates automne 2025 : 20/9\, 18/10\, 15/11 et 13/12. Dates 2026 : 17/1\, 14/2\, 21/3\, 18/4\, 23/5\, 20/6.
URL:https://www.lasolid.fr/evenement/atelier-couture-fil-good/2025-11-15/
LOCATION:Maison de la solidarité\, 1 rue des filatures\, Clisson\, 44190\, France
CATEGORIES:Fil Good
ATTACH;FMTTYPE=image/jpeg:https://www.lasolid.fr/wp-content/uploads/P1000678-scaled.jpg
ORGANIZER;CN="La Solid'":MAILTO:asso@lasolid.fr
END:VEVENT
END:VCALENDAR