BEGIN:VCALENDAR
VERSION:2.0
PRODID:-//La Solid&#039; - ECPv6.13.2.1//NONSGML v1.0//EN
CALSCALE:GREGORIAN
METHOD:PUBLISH
X-WR-CALNAME:La Solid&#039;
X-ORIGINAL-URL:https://www.lasolid.fr
X-WR-CALDESC:Évènements pour La Solid&#039;
REFRESH-INTERVAL;VALUE=DURATION:PT1H
X-Robots-Tag:noindex
X-PUBLISHED-TTL:PT1H
BEGIN:VTIMEZONE
TZID:Europe/Paris
BEGIN:DAYLIGHT
TZOFFSETFROM:+0100
TZOFFSETTO:+0200
TZNAME:CEST
DTSTART:20250330T010000
END:DAYLIGHT
BEGIN:STANDARD
TZOFFSETFROM:+0200
TZOFFSETTO:+0100
TZNAME:CET
DTSTART:20251026T010000
END:STANDARD
END:VTIMEZONE
BEGIN:VEVENT
DTSTART;TZID=Europe/Paris:20250912T190000
DTEND;TZID=Europe/Paris:20250912T210000
DTSTAMP:20260420T164934
CREATED:20250515T214349Z
LAST-MODIFIED:20250812T095208Z
UID:10001993-1757703600-1757710800@www.lasolid.fr
SUMMARY:Atelier des savoirs : atelier Ginger Beer
DESCRIPTION:Viens apprendre à fabriquer ta Ginger Beer avec Stéphanie ! \nAtelier ouvert à tou·tes\, à prix libre\, sur réservation. \nBreuvage et grignotages en partage bienvenus ! \nLien d’inscription : https://lasolid.assoconnect.com/collect/description/590343-s-atelier-des-savoirs-fabrique-ta-ginger-beer \nAteliers des savoirs suivants : \n10 Octobre 19h – Atelier pré-ménopause et ménopause \n7 Novembre 19h – Atelier produits ménagers maison \n5 Décembre 19h – Atelier Furoshiki
URL:https://www.lasolid.fr/evenement/atelier-des-savoirs-atelier-ginger-beer/
LOCATION:Maison de la solidarité\, 1 rue des filatures\, Clisson\, 44190\, France
CATEGORIES:Atelier des savoirs
ATTACH;FMTTYPE=image/png:https://www.lasolid.fr/wp-content/uploads/Ateliers-des-savoirs-1-2.png
ORGANIZER;CN="La Solid'":MAILTO:asso@lasolid.fr
END:VEVENT
END:VCALENDAR