BEGIN:VCALENDAR
VERSION:2.0
PRODID:-//La Solid&#039; - ECPv6.13.2.1//NONSGML v1.0//EN
CALSCALE:GREGORIAN
METHOD:PUBLISH
X-ORIGINAL-URL:https://www.lasolid.fr
X-WR-CALDESC:Évènements pour La Solid&#039;
REFRESH-INTERVAL;VALUE=DURATION:PT1H
X-Robots-Tag:noindex
X-PUBLISHED-TTL:PT1H
BEGIN:VTIMEZONE
TZID:Europe/Paris
BEGIN:DAYLIGHT
TZOFFSETFROM:+0100
TZOFFSETTO:+0200
TZNAME:CEST
DTSTART:20260329T010000
END:DAYLIGHT
BEGIN:STANDARD
TZOFFSETFROM:+0200
TZOFFSETTO:+0100
TZNAME:CET
DTSTART:20261025T010000
END:STANDARD
END:VTIMEZONE
BEGIN:VEVENT
DTSTART;TZID=Europe/Paris:20260502T100000
DTEND;TZID=Europe/Paris:20260502T170000
DTSTAMP:20260420T001310
CREATED:20251203T195620Z
LAST-MODIFIED:20260409T222405Z
UID:10002201-1777716000-1777741200@www.lasolid.fr
SUMMARY:Atelier soudure Good Steel
DESCRIPTION:Atelier de réparation\, création et de découverte de la soudure à l’arc animé par Gaël\, ouvert à tou·tes les adhérent·es\, à prix libre ! \n10h-17h – possibilité de rester déjeuner à la Solid’ le midi (cuisine et jardin sur place). \nViens faire des étincelles et construire des trucs super utiles\, comme un démonte-palettes\, une remorque pour ton vélo\, réparer ton vieux portail\, ta chaise de jardin en fer forgé ou réaliser une jolie œuvre d’art. \nAtelier destiné à toutes celles et ceux qui souhaitent apprendre à souder et travailler le métal.\nIci\, on ne soude pas pour rien. Tous les participant·es repartent avec une création faite de leurs propres mains. \nAtelier de 10H à 17H\, Prévoir chaussure de sécurité et vêtement de travail épais (Ex : bleu de travail) \nNombre de places limité\, inscription vivement conseillée\, \nDates 2026 : 17/1\, 14/2\, 14/3\, 4/4\, 2/5\, 27/6\, 29/8 \nRéservation pour le 2 mai : https://lasolid.assoconnect.com/collect/description/645176-g-atelier-soudure-good-steel
URL:https://www.lasolid.fr/evenement/atelier-soudure-good-steel-4-6/
LOCATION:Maison de la solidarité\, 1 rue des filatures\, Clisson\, 44190\, France
CATEGORIES:Good Steel,Tiers Lieu Ateliers Solidaires
ATTACH;FMTTYPE=image/jpeg:https://www.lasolid.fr/wp-content/uploads/good-steel-1-scaled.jpg
ORGANIZER;CN="La Solid'":MAILTO:asso@lasolid.fr
END:VEVENT
BEGIN:VEVENT
DTSTART;TZID=Europe/Paris:20260505T183000
DTEND;TZID=Europe/Paris:20260505T200000
DTSTAMP:20260420T001310
CREATED:20260327T004443Z
LAST-MODIFIED:20260327T004443Z
UID:10002296-1778005800-1778011200@www.lasolid.fr
SUMMARY:Conseil associatif ouvert à tou·tes les adhérent·es
DESCRIPTION:Bienvenue dès 18h\, début du CA à 18h30. Grignotages et breuvages en partage bienvenus ! \nL’ordre du jour est envoyé à tou·tes nos adhérent·es à jour de leur cotisation. \nBienvenue pour découvrir le fonctionnement de ton asso\, et y participer à ta manière. Prises de décisions par consentement. Explications ici.
URL:https://www.lasolid.fr/evenement/conseil-associatif-ouvert-a-tou%c2%b7tes-les-adherent%c2%b7es/
LOCATION:Maison de la solidarité\, 1 rue des filatures\, Clisson\, 44190\, France
CATEGORIES:Environnement - Biodiversité,Réunions,Tiers Lieu Ateliers Solidaires,Vélo
ATTACH;FMTTYPE=image/jpeg:https://www.lasolid.fr/wp-content/uploads/IMG20210830191728-scaled.jpg
ORGANIZER;CN="La Solid'":MAILTO:asso@lasolid.fr
END:VEVENT
BEGIN:VEVENT
DTSTART;TZID=Europe/Paris:20260506T140000
DTEND;TZID=Europe/Paris:20260506T190000
DTSTAMP:20260420T001310
CREATED:20230619T120254Z
LAST-MODIFIED:20240820T225100Z
UID:10001452-1778076000-1778094000@www.lasolid.fr
SUMMARY:Atelier vélo Good’Huile + vente de vélos d'occasion
DESCRIPTION:L’atelier Good’huile est un atelier vélo coopératif et solidaire\, membre du réseau L’Heureux Cyclage.\nNotre équipe bénévole et salariée vous accueille tous les mercredis de 14h à 19h !\n\nNous vous accompagnons dans vos réparations de vélos : nous faisons avec vous et non pas pour vous ! La philosophie de notre atelier est que vous repartiez non seulement avec un vélo réparé mais également avec des connaissances en mécanique !\n\nL’atelier Good’huile est ouvert aux personnes adhérentes de la Solid’ sans prise de rdv. Vous pouvez venir quand vous voulez sur les horaires de la permanence\, nous vous accueillerons en fonction de nos capacités et de l’affluence !\nVous pouvez prendre votre adhésion lors de votre première venue à l’atelier.\nTout est possible chez Good’huile ! Apprendre à réparer ce dérailleur dont les vitesses passent mal\, régler ces freins récalcitrants\, changer une chambre à air\, acheter et installer un porte-bagages…\n\nLes pièces détachées neuves et d’occasion sont en vente à prix fixe\, l’accompagnement technique et la formation à la mécanique sont à prix libre : vous donnez ce que vous pouvez pour aider l’atelier à continuer son bout de chemin !\n\nVous pouvez aussi acheter ou troquer un vélo issu de notre atelier\, nous en avons pour tous les gouts : vélo enfant\, VTT ado/adulte\, VTC\, vélo de ville\, BMX…\n\nL’atelier se trouve au 1 rue des Filatures à Clisson\, derrière la Maison de la Solidarité. Plus d’informations auprès d’Arnaud au 0649762227 et à velo@lasolid.fr.
URL:https://www.lasolid.fr/evenement/atelier-velo-goodhuile-vente-velos/2026-05-06/
LOCATION:Maison de la solidarité\, 1 rue des filatures\, Clisson\, 44190\, France
CATEGORIES:Tiers Lieu Ateliers Solidaires,Vélo
ATTACH;FMTTYPE=image/jpeg:https://www.lasolid.fr/wp-content/uploads/445186160_840457078114807_5486995695168866769_n-1.jpg
ORGANIZER;CN="La Solid'":MAILTO:asso@lasolid.fr
END:VEVENT
BEGIN:VEVENT
DTSTART;TZID=Europe/Paris:20260506T190000
DTEND;TZID=Europe/Paris:20260506T210000
DTSTAMP:20260420T001310
CREATED:20260310T151824Z
LAST-MODIFIED:20260409T225211Z
UID:10002305-1778094000-1778101200@www.lasolid.fr
SUMMARY:Réunion des Super Féministes
DESCRIPTION:Pour organiser toutes les actions des Super Féministes\, il faut bien faire des réunions de temps en temps ! \nLes Super Féministes se réunissent toutes les cinq semaines\, en alternance de mercredi et de jeudi\, à 19h à la Solid’. Grignotage et boissons bienvenues ! \nOn partage nos idées\, nos idées\, nos projets pendant une heure\, puis on partage un bon moment ensemble : repas\, papotes\, projection… \nIl est possible de rejoindre le groupe toute l’année\, de ne venir qu’à une réunion ou juste une de temps en temps 🙂 \nOuverte aux adhérent-es de La Solid’ en phase avec la charte des Super Féministes. \nPlus d’infos ? asso@lasolid.fr \n  \n 
URL:https://www.lasolid.fr/evenement/reunion-des-super-feministes-5-2-3-2/2026-05-06/
LOCATION:Maison de la solidarité\, 1 rue des filatures\, Clisson\, 44190\, France
CATEGORIES:Autres,Rdv des Super Féministes,Réunions
ATTACH;FMTTYPE=image/png:https://www.lasolid.fr/wp-content/uploads/super-feministes-solid-transparent.png
ORGANIZER;CN="La Solid'":MAILTO:asso@lasolid.fr
END:VEVENT
BEGIN:VEVENT
DTSTART;TZID=Europe/Paris:20260513T140000
DTEND;TZID=Europe/Paris:20260513T190000
DTSTAMP:20260420T001310
CREATED:20230619T120254Z
LAST-MODIFIED:20240820T225100Z
UID:10001453-1778680800-1778698800@www.lasolid.fr
SUMMARY:Atelier vélo Good’Huile + vente de vélos d'occasion
DESCRIPTION:L’atelier Good’huile est un atelier vélo coopératif et solidaire\, membre du réseau L’Heureux Cyclage.\nNotre équipe bénévole et salariée vous accueille tous les mercredis de 14h à 19h !\n\nNous vous accompagnons dans vos réparations de vélos : nous faisons avec vous et non pas pour vous ! La philosophie de notre atelier est que vous repartiez non seulement avec un vélo réparé mais également avec des connaissances en mécanique !\n\nL’atelier Good’huile est ouvert aux personnes adhérentes de la Solid’ sans prise de rdv. Vous pouvez venir quand vous voulez sur les horaires de la permanence\, nous vous accueillerons en fonction de nos capacités et de l’affluence !\nVous pouvez prendre votre adhésion lors de votre première venue à l’atelier.\nTout est possible chez Good’huile ! Apprendre à réparer ce dérailleur dont les vitesses passent mal\, régler ces freins récalcitrants\, changer une chambre à air\, acheter et installer un porte-bagages…\n\nLes pièces détachées neuves et d’occasion sont en vente à prix fixe\, l’accompagnement technique et la formation à la mécanique sont à prix libre : vous donnez ce que vous pouvez pour aider l’atelier à continuer son bout de chemin !\n\nVous pouvez aussi acheter ou troquer un vélo issu de notre atelier\, nous en avons pour tous les gouts : vélo enfant\, VTT ado/adulte\, VTC\, vélo de ville\, BMX…\n\nL’atelier se trouve au 1 rue des Filatures à Clisson\, derrière la Maison de la Solidarité. Plus d’informations auprès d’Arnaud au 0649762227 et à velo@lasolid.fr.
URL:https://www.lasolid.fr/evenement/atelier-velo-goodhuile-vente-velos/2026-05-13/
LOCATION:Maison de la solidarité\, 1 rue des filatures\, Clisson\, 44190\, France
CATEGORIES:Tiers Lieu Ateliers Solidaires,Vélo
ATTACH;FMTTYPE=image/jpeg:https://www.lasolid.fr/wp-content/uploads/445186160_840457078114807_5486995695168866769_n-1.jpg
ORGANIZER;CN="La Solid'":MAILTO:asso@lasolid.fr
END:VEVENT
BEGIN:VEVENT
DTSTART;TZID=Europe/Paris:20260519T100000
DTEND;TZID=Europe/Paris:20260519T170000
DTSTAMP:20260420T001310
CREATED:20260110T162641Z
LAST-MODIFIED:20260408T165205Z
UID:10002299-1779184800-1779210000@www.lasolid.fr
SUMMARY:Chantier collectif Appentis bois
DESCRIPTION:Chantier collectif de construction d’un appentis en bois\, pour mettre à l’abri de nos matériaux. Bienvenue aux bénévoles et volontaires de La Solid’. Atelier coopératif et convivial. Possibilité de repas partagé le midi. \nContact : Anne – ateliers@lasolid.fr / 06 31 56 00 47
URL:https://www.lasolid.fr/evenement/chantier-collectif-appentis-bois/2026-05-19/
LOCATION:Maison de la solidarité\, 1 rue des filatures\, Clisson\, 44190\, France
CATEGORIES:Good Wood,Tiers Lieu Ateliers Solidaires
ATTACH;FMTTYPE=image/jpeg:https://www.lasolid.fr/wp-content/uploads/Scie-1.jpg
ORGANIZER;CN="La Solid'":MAILTO:asso@lasolid.fr
END:VEVENT
BEGIN:VEVENT
DTSTART;TZID=Europe/Paris:20260520T100000
DTEND;TZID=Europe/Paris:20260520T170000
DTSTAMP:20260420T001310
CREATED:20260110T162641Z
LAST-MODIFIED:20260408T165205Z
UID:10002300-1779271200-1779296400@www.lasolid.fr
SUMMARY:Chantier collectif Appentis bois
DESCRIPTION:Chantier collectif de construction d’un appentis en bois\, pour mettre à l’abri de nos matériaux. Bienvenue aux bénévoles et volontaires de La Solid’. Atelier coopératif et convivial. Possibilité de repas partagé le midi. \nContact : Anne – ateliers@lasolid.fr / 06 31 56 00 47
URL:https://www.lasolid.fr/evenement/chantier-collectif-appentis-bois/2026-05-20/
LOCATION:Maison de la solidarité\, 1 rue des filatures\, Clisson\, 44190\, France
CATEGORIES:Good Wood,Tiers Lieu Ateliers Solidaires
ATTACH;FMTTYPE=image/jpeg:https://www.lasolid.fr/wp-content/uploads/Scie-1.jpg
ORGANIZER;CN="La Solid'":MAILTO:asso@lasolid.fr
END:VEVENT
BEGIN:VEVENT
DTSTART;TZID=Europe/Paris:20260520T140000
DTEND;TZID=Europe/Paris:20260520T190000
DTSTAMP:20260420T001310
CREATED:20230619T120254Z
LAST-MODIFIED:20240820T225100Z
UID:10001454-1779285600-1779303600@www.lasolid.fr
SUMMARY:Atelier vélo Good’Huile + vente de vélos d'occasion
DESCRIPTION:L’atelier Good’huile est un atelier vélo coopératif et solidaire\, membre du réseau L’Heureux Cyclage.\nNotre équipe bénévole et salariée vous accueille tous les mercredis de 14h à 19h !\n\nNous vous accompagnons dans vos réparations de vélos : nous faisons avec vous et non pas pour vous ! La philosophie de notre atelier est que vous repartiez non seulement avec un vélo réparé mais également avec des connaissances en mécanique !\n\nL’atelier Good’huile est ouvert aux personnes adhérentes de la Solid’ sans prise de rdv. Vous pouvez venir quand vous voulez sur les horaires de la permanence\, nous vous accueillerons en fonction de nos capacités et de l’affluence !\nVous pouvez prendre votre adhésion lors de votre première venue à l’atelier.\nTout est possible chez Good’huile ! Apprendre à réparer ce dérailleur dont les vitesses passent mal\, régler ces freins récalcitrants\, changer une chambre à air\, acheter et installer un porte-bagages…\n\nLes pièces détachées neuves et d’occasion sont en vente à prix fixe\, l’accompagnement technique et la formation à la mécanique sont à prix libre : vous donnez ce que vous pouvez pour aider l’atelier à continuer son bout de chemin !\n\nVous pouvez aussi acheter ou troquer un vélo issu de notre atelier\, nous en avons pour tous les gouts : vélo enfant\, VTT ado/adulte\, VTC\, vélo de ville\, BMX…\n\nL’atelier se trouve au 1 rue des Filatures à Clisson\, derrière la Maison de la Solidarité. Plus d’informations auprès d’Arnaud au 0649762227 et à velo@lasolid.fr.
URL:https://www.lasolid.fr/evenement/atelier-velo-goodhuile-vente-velos/2026-05-20/
LOCATION:Maison de la solidarité\, 1 rue des filatures\, Clisson\, 44190\, France
CATEGORIES:Tiers Lieu Ateliers Solidaires,Vélo
ATTACH;FMTTYPE=image/jpeg:https://www.lasolid.fr/wp-content/uploads/445186160_840457078114807_5486995695168866769_n-1.jpg
ORGANIZER;CN="La Solid'":MAILTO:asso@lasolid.fr
END:VEVENT
BEGIN:VEVENT
DTSTART;TZID=Europe/Paris:20260523T140000
DTEND;TZID=Europe/Paris:20260523T170000
DTSTAMP:20260420T001310
CREATED:20250918T165303Z
LAST-MODIFIED:20251114T173706Z
UID:10002122-1779544800-1779555600@www.lasolid.fr
SUMMARY:Atelier couture Fil Good
DESCRIPTION:Atelier couture coopératif et solidaire\, ouvert à tou·tes\, initié·es ou débutant·es\, dans un esprit de partage. Matériel et conseils mutualisés. \nAtelier libre\, un samedi après-midi par mois\, à prix libre. \nInscription (non obligatoire) : asso@lasolid.fr / 06 33 56 20 56. \nDates automne 2025 : 20/9\, 18/10\, 15/11 et 13/12. Dates 2026 : 17/1\, 14/2\, 21/3\, 18/4\, 23/5\, 20/6.
URL:https://www.lasolid.fr/evenement/atelier-couture-fil-good/2026-05-23/
LOCATION:Maison de la solidarité\, 1 rue des filatures\, Clisson\, 44190\, France
CATEGORIES:Fil Good
ATTACH;FMTTYPE=image/jpeg:https://www.lasolid.fr/wp-content/uploads/P1000678-scaled.jpg
ORGANIZER;CN="La Solid'":MAILTO:asso@lasolid.fr
END:VEVENT
BEGIN:VEVENT
DTSTART;TZID=Europe/Paris:20260527T140000
DTEND;TZID=Europe/Paris:20260527T190000
DTSTAMP:20260420T001310
CREATED:20230619T120254Z
LAST-MODIFIED:20240820T225100Z
UID:10001455-1779890400-1779908400@www.lasolid.fr
SUMMARY:Atelier vélo Good’Huile + vente de vélos d'occasion
DESCRIPTION:L’atelier Good’huile est un atelier vélo coopératif et solidaire\, membre du réseau L’Heureux Cyclage.\nNotre équipe bénévole et salariée vous accueille tous les mercredis de 14h à 19h !\n\nNous vous accompagnons dans vos réparations de vélos : nous faisons avec vous et non pas pour vous ! La philosophie de notre atelier est que vous repartiez non seulement avec un vélo réparé mais également avec des connaissances en mécanique !\n\nL’atelier Good’huile est ouvert aux personnes adhérentes de la Solid’ sans prise de rdv. Vous pouvez venir quand vous voulez sur les horaires de la permanence\, nous vous accueillerons en fonction de nos capacités et de l’affluence !\nVous pouvez prendre votre adhésion lors de votre première venue à l’atelier.\nTout est possible chez Good’huile ! Apprendre à réparer ce dérailleur dont les vitesses passent mal\, régler ces freins récalcitrants\, changer une chambre à air\, acheter et installer un porte-bagages…\n\nLes pièces détachées neuves et d’occasion sont en vente à prix fixe\, l’accompagnement technique et la formation à la mécanique sont à prix libre : vous donnez ce que vous pouvez pour aider l’atelier à continuer son bout de chemin !\n\nVous pouvez aussi acheter ou troquer un vélo issu de notre atelier\, nous en avons pour tous les gouts : vélo enfant\, VTT ado/adulte\, VTC\, vélo de ville\, BMX…\n\nL’atelier se trouve au 1 rue des Filatures à Clisson\, derrière la Maison de la Solidarité. Plus d’informations auprès d’Arnaud au 0649762227 et à velo@lasolid.fr.
URL:https://www.lasolid.fr/evenement/atelier-velo-goodhuile-vente-velos/2026-05-27/
LOCATION:Maison de la solidarité\, 1 rue des filatures\, Clisson\, 44190\, France
CATEGORIES:Tiers Lieu Ateliers Solidaires,Vélo
ATTACH;FMTTYPE=image/jpeg:https://www.lasolid.fr/wp-content/uploads/445186160_840457078114807_5486995695168866769_n-1.jpg
ORGANIZER;CN="La Solid'":MAILTO:asso@lasolid.fr
END:VEVENT
BEGIN:VEVENT
DTSTART;TZID=Europe/Paris:20260530T100000
DTEND;TZID=Europe/Paris:20260530T130000
DTSTAMP:20260420T001310
CREATED:20250905T132651Z
LAST-MODIFIED:20260409T224412Z
UID:10002054-1780135200-1780146000@www.lasolid.fr
SUMMARY:Good Wood : initiation aux outils electro-portatifs
DESCRIPTION:Samedi 30 mai de 10 h 13h : Atelier initiation aux outils portatifs\, puis de 14h à 18h : atelier libre. \nPrix libre \nateliers@lasolid.fr / 06 31 56 00 47
URL:https://www.lasolid.fr/evenement/good-wood-initiation-aux-outils-electro-portatifs/
LOCATION:Maison de la solidarité\, 1 rue des filatures\, Clisson\, 44190\, France
CATEGORIES:Good Wood
ATTACH;FMTTYPE=image/jpeg:https://www.lasolid.fr/wp-content/uploads/Mesures.jpg
ORGANIZER;CN="La Solid'":MAILTO:asso@lasolid.fr
END:VEVENT
BEGIN:VEVENT
DTSTART;TZID=Europe/Paris:20260530T140000
DTEND;TZID=Europe/Paris:20260530T180000
DTSTAMP:20260420T001310
CREATED:20250905T132846Z
LAST-MODIFIED:20250905T132846Z
UID:10002055-1780149600-1780164000@www.lasolid.fr
SUMMARY:Atelier bois Good Wood libre
DESCRIPTION:Samedi 30 mai de 10 h 13h : Atelier initiation aux outils portatifs\, puis de 14h à 18h : atelier libre. \nPrix libre \nateliers@lasolid.fr / 06 31 56 00 47
URL:https://www.lasolid.fr/evenement/atelier-bois-good-wood-libre/
LOCATION:Maison de la solidarité\, 1 rue des filatures\, Clisson\, 44190\, France
CATEGORIES:Good Wood
ORGANIZER;CN="La Solid'":MAILTO:asso@lasolid.fr
END:VEVENT
END:VCALENDAR