BEGIN:VCALENDAR
VERSION:2.0
PRODID:-//La Solid&#039; - ECPv6.13.2.1//NONSGML v1.0//EN
CALSCALE:GREGORIAN
METHOD:PUBLISH
X-WR-CALNAME:La Solid&#039;
X-ORIGINAL-URL:https://www.lasolid.fr
X-WR-CALDESC:Évènements pour La Solid&#039;
REFRESH-INTERVAL;VALUE=DURATION:PT1H
X-Robots-Tag:noindex
X-PUBLISHED-TTL:PT1H
BEGIN:VTIMEZONE
TZID:Europe/Paris
BEGIN:DAYLIGHT
TZOFFSETFROM:+0100
TZOFFSETTO:+0200
TZNAME:CEST
DTSTART:20250330T010000
END:DAYLIGHT
BEGIN:STANDARD
TZOFFSETFROM:+0200
TZOFFSETTO:+0100
TZNAME:CET
DTSTART:20251026T010000
END:STANDARD
BEGIN:DAYLIGHT
TZOFFSETFROM:+0100
TZOFFSETTO:+0200
TZNAME:CEST
DTSTART:20260329T010000
END:DAYLIGHT
BEGIN:STANDARD
TZOFFSETFROM:+0200
TZOFFSETTO:+0100
TZNAME:CET
DTSTART:20261025T010000
END:STANDARD
END:VTIMEZONE
BEGIN:VEVENT
DTSTART;VALUE=DATE:20251121
DTEND;VALUE=DATE:20260101
DTSTAMP:20260420T053257
CREATED:20251121T163554Z
LAST-MODIFIED:20251121T163705Z
UID:10002245-1763683200-1767225599@www.lasolid.fr
SUMMARY:Inscriptions auto-formation à la Conférence gesticulée
DESCRIPTION:Bonjour à toustes ! \nVoici le formulaire d’inscription pour participer au groupe d’entraide « Monte ta conférence gesticulée ». Cette auto-formation collective animée par Matthieu est gratuite\, et se déroulera entre janvier et septembre 2026\, à Clisson : \nhttps://cryptpad.fr/form/#/2/form/view/n9UhooWfKhCmF7CkzTihmdDgsvEVYxos1-P1tjqikaQ/ \nFormation ouverte à 10 personnes maximum. \n**Premières soirées à la Solid : \n\n12 janvier 19h > 21h30 (session 1)\n26 janvier 19h > 21h30 (session 2)\n9 février 19h > 21h30 (session 3)\n\n-> Tu auras la possibilité de te désengager jusqu’au 10 février\, si le cadre ne te convient pas\, si tu vois qu’en termes de disponibilité ça va être compliqué ou si tu perds ton énergie / ta motivation d’ici cette date
URL:https://www.lasolid.fr/evenement/3296/
LOCATION:Maison de la solidarité\, 1 rue des filatures\, Clisson\, 44190\, France
CATEGORIES:Atelier des savoirs,Tiers Lieu Ateliers Solidaires
ATTACH;FMTTYPE=image/jpeg:https://www.lasolid.fr/wp-content/uploads/matthieuf2.jpg
ORGANIZER;CN="La Solid'":MAILTO:asso@lasolid.fr
END:VEVENT
BEGIN:VEVENT
DTSTART;TZID=Europe/Paris:20251203T140000
DTEND;TZID=Europe/Paris:20251203T180000
DTSTAMP:20260420T053257
CREATED:20251119T150620Z
LAST-MODIFIED:20251119T150622Z
UID:10001430-1764770400-1764784800@www.lasolid.fr
SUMMARY:Atelier vélo Good’Huile + vente de vélos d'occasion
DESCRIPTION:FERMETURE EXCEPTIONNELLE CE MERCREDI 3 DÉCEMBRE À 18H\n\nL’atelier Good’huile est un atelier vélo coopératif et solidaire\, membre du réseau L’Heureux Cyclage.\nNotre équipe bénévole et salariée vous accueille tous les mercredis de 14h à 19h !\n\nNous vous accompagnons dans vos réparations de vélos : nous faisons avec vous et non pas pour vous ! La philosophie de notre atelier est que vous repartiez non seulement avec un vélo réparé mais également avec des connaissances en mécanique !\n\nL’atelier Good’huile est ouvert aux personnes adhérentes de la Solid’ sans prise de rdv. Vous pouvez venir quand vous voulez sur les horaires de la permanence\, nous vous accueillerons en fonction de nos capacités et de l’affluence !\nVous pouvez prendre votre adhésion lors de votre première venue à l’atelier.\nTout est possible chez Good’huile ! Apprendre à réparer ce dérailleur dont les vitesses passent mal\, régler ces freins récalcitrants\, changer une chambre à air\, acheter et installer un porte-bagages…\n\nLes pièces détachées neuves et d’occasion sont en vente à prix fixe\, l’accompagnement technique et la formation à la mécanique sont à prix libre : vous donnez ce que vous pouvez pour aider l’atelier à continuer son bout de chemin !\n\nVous pouvez aussi acheter ou troquer un vélo issu de notre atelier\, nous en avons pour tous les gouts : vélo enfant\, VTT ado/adulte\, VTC\, vélo de ville\, BMX…\n\nL’atelier se trouve au 1 rue des Filatures à Clisson\, derrière la Maison de la Solidarité. Plus d’informations auprès d’Arnaud au 0649762227 et à velo@lasolid.fr.
URL:https://www.lasolid.fr/evenement/atelier-velo-goodhuile-vente-velos-12/
LOCATION:Maison de la solidarité\, 1 rue des filatures\, Clisson\, 44190\, France
CATEGORIES:Tiers Lieu Ateliers Solidaires,Vélo
ATTACH;FMTTYPE=image/jpeg:https://www.lasolid.fr/wp-content/uploads/445186160_840457078114807_5486995695168866769_n-1.jpg
ORGANIZER;CN="La Solid'":MAILTO:asso@lasolid.fr
END:VEVENT
BEGIN:VEVENT
DTSTART;TZID=Europe/Paris:20251203T180000
DTEND;TZID=Europe/Paris:20251203T190000
DTSTAMP:20260420T053257
CREATED:20251119T114554Z
LAST-MODIFIED:20251203T130222Z
UID:10002219-1764784800-1764788400@www.lasolid.fr
SUMMARY:REPORTÉ /// Pot d'accueil d'Alicia et Yaroslav
DESCRIPTION:NOUS SOMMES OBLIGÉ·ES D’ANNULER LE POT CE SOIR\, POUR CAUSE DE MALADIE… ON REMET ÇA BIENTÔT ! \nBienvenue à Alicia et Yaroslav\, en mission de service civique à la Solid’ pour les 8 prochains mois ! \nVenez faire leur rencontre autour d’un verre de l’amitié où chacun·e peut apporter quelque chose à grignoter. \nMercredi 3 décembre à 18h. Exceptionnellement l’atelier vélo fermera un peu plus tôt.
URL:https://www.lasolid.fr/evenement/pot-daccueil-dalicia-et-yaroslav/
LOCATION:Maison de la solidarité\, 1 rue des filatures\, Clisson\, 44190\, France
CATEGORIES:Autres,Environnement - Biodiversité,Réunions,Tiers Lieu Ateliers Solidaires,Vélo
ATTACH;FMTTYPE=image/jpeg:https://www.lasolid.fr/wp-content/uploads/P1100993-scaled-e1764170472691.jpg
ORGANIZER;CN="La Solid'":MAILTO:asso@lasolid.fr
END:VEVENT
BEGIN:VEVENT
DTSTART;TZID=Europe/Paris:20251204T170000
DTEND;TZID=Europe/Paris:20251204T200000
DTSTAMP:20260420T053257
CREATED:20251202T150447Z
LAST-MODIFIED:20251202T150449Z
UID:10002076-1764867600-1764878400@www.lasolid.fr
SUMMARY:ANNULÉ //// Atelier mécanique vélo en mixité choisie MINT*
DESCRIPTION:FERMETURE EXCEPTIONNELLE DE L’ATELIER MÉCA-MEUFS. BON RÉTABLISSEMENT MARIE ! \nAvec les Super Féministes de La Solid’ : atelier d’apprentissage de la réparation de vélos pour les femmes et minorités de genres. \nApprends à réparer et entretenir ton vélo ! Atelier pédagogique ouvert aux femmes et minorités de genres à La Solid’\, à prix libre. Une question ? Envoie un SMS à Marie : 06 33 38 35 47. \nUn jeudi soir par mois\, viens entretenir ton vélo et/ou apprendre la mécanique cycle en petit groupe\, sans stress\, sans jugement. \nA partir de 17:00\, Marie t’attend avec ou sans vélo. Changer ta chaîne\, régler ton dérailleur\, aider un.e camarade à dévoiler sa roue\, tu peux le faire. Si tu n’y arrives pas\, si tu fais des bêtises\, pas de souci\, c’est comme ça qu’on apprend ! \nEntraide\, bienveillance\, convivialité sont de mise lors de ces soirées entre femmes et minorités de genre. \nPièces d’usure et pièces d’occasion à petit prix en vente sur place. Tu peux aussi venir avec tes pièces à changer. Pense à apporter de la monnaie pour le prix libre et mettre ton adhésion à jour. \n*Meufs\, Intersexes\, Non-Binaires et Trans \n  \n 
URL:https://www.lasolid.fr/evenement/atelier-mecanique-velo-en-mixite-choisie-mint-5-2/
LOCATION:Maison de la solidarité\, 1 rue des filatures\, Clisson\, 44190\, France
CATEGORIES:Rdv des Super Féministes,Tiers Lieu Ateliers Solidaires,Vélo
ATTACH;FMTTYPE=image/png:https://www.lasolid.fr/wp-content/uploads/meca-meuf-sept-dec-2025.png
ORGANIZER;CN="La Solid'":MAILTO:asso@lasolid.fr
END:VEVENT
BEGIN:VEVENT
DTSTART;TZID=Europe/Paris:20251206T100000
DTEND;TZID=Europe/Paris:20251206T180000
DTSTAMP:20260420T053257
CREATED:20250905T133808Z
LAST-MODIFIED:20251115T005405Z
UID:10002056-1765015200-1765044000@www.lasolid.fr
SUMMARY:Atelier Good Wood : fabrication d'un panier à outils (de 8 à 99 ans)
DESCRIPTION:Samedi de 10h à 18h : Atelier fabrication panier à outils (adulte et famille enfant accompagné + 8 ans – un adulte-un enfant) \nateliers@lasolid.fr / 06 31 56 00 47 \n 
URL:https://www.lasolid.fr/evenement/atelier-good-wood-fabrication-dun-panier-a-outils-de-8-a-99-ans/
LOCATION:Maison de la solidarité\, 1 rue des filatures\, Clisson\, 44190\, France
CATEGORIES:Good Wood
ATTACH;FMTTYPE=image/jpeg:https://www.lasolid.fr/wp-content/uploads/panier-a-outils.jpg
ORGANIZER;CN="La Solid'":MAILTO:asso@lasolid.fr
END:VEVENT
BEGIN:VEVENT
DTSTART;TZID=Europe/Paris:20251208T190000
DTEND;TZID=Europe/Paris:20251208T210000
DTSTAMP:20260420T053257
CREATED:20250515T232409Z
LAST-MODIFIED:20251126T151654Z
UID:10001996-1765220400-1765227600@www.lasolid.fr
SUMMARY:Atelier des savoirs : Furoshiki - emballage zéro déchets NOUVELLE DATE
DESCRIPTION:REPORTÉ AU lundi 8 Décembre 19h – Atelier Furoshiki \nViens apprendre à réaliser des pliages en tissu et repars avec un emballage.\nAtelier ouvert à tou·tes\, à prix libre\, sur réservation. Breuvage et grignotages en partage bienvenus !\n\n\nSur réservation : https://lasolid.assoconnect.com/collect/description/614759-d-ateliers-des-savoirs-emballages-cadeaux-furoshiki
URL:https://www.lasolid.fr/evenement/atelier-des-savoirs-furoshiki-emballage-zero-dechets/
LOCATION:Maison de la solidarité\, 1 rue des filatures\, Clisson\, 44190\, France
CATEGORIES:Atelier des savoirs,Tiers Lieu Ateliers Solidaires
ATTACH;FMTTYPE=image/jpeg:https://www.lasolid.fr/wp-content/uploads/Atelier-des-Savoirs-dec-2023-Furoshiki1-scaled.jpg
ORGANIZER;CN="La Solid'":MAILTO:asso@lasolid.fr
END:VEVENT
BEGIN:VEVENT
DTSTART;VALUE=DATE:20251210
DTEND;VALUE=DATE:20260201
DTSTAMP:20260420T053257
CREATED:20251210T185309Z
LAST-MODIFIED:20260106T202035Z
UID:10002255-1765324800-1769903999@www.lasolid.fr
SUMMARY:Inscriptions Atelier du mouvement
DESCRIPTION:Les inscriptions sont ouvertes\, pour ce nouvel atelier entièrement gratuit\, réservé aux personnes de plus de 60 ans. L’atelier du mouvement aura lieu les jeudis matins à la Solid’\, et sera animé par Sophie. 10 séances sur chaise. Nombre de places limité ! \nRéservation : asso@lasolid.fr ou directement auprès de Sophie : 06 83 02 67 10. \n \nAutres activités concoctées spécialement pour les personnes de plus de 60 ans : \n \n 
URL:https://www.lasolid.fr/evenement/inscriptions-atelier-du-mouvement/
LOCATION:Maison de la solidarité\, 1 rue des filatures\, Clisson\, 44190\, France
CATEGORIES:Autres,Tiers Lieu Ateliers Solidaires
ATTACH;FMTTYPE=image/jpeg:https://www.lasolid.fr/wp-content/uploads/mouvement.jpg
ORGANIZER;CN="La Solid'":MAILTO:asso@lasolid.fr
END:VEVENT
BEGIN:VEVENT
DTSTART;TZID=Europe/Paris:20251210T140000
DTEND;TZID=Europe/Paris:20251210T190000
DTSTAMP:20260420T053257
CREATED:20230619T120254Z
LAST-MODIFIED:20240820T225100Z
UID:10001431-1765375200-1765393200@www.lasolid.fr
SUMMARY:Atelier vélo Good’Huile + vente de vélos d'occasion
DESCRIPTION:L’atelier Good’huile est un atelier vélo coopératif et solidaire\, membre du réseau L’Heureux Cyclage.\nNotre équipe bénévole et salariée vous accueille tous les mercredis de 14h à 19h !\n\nNous vous accompagnons dans vos réparations de vélos : nous faisons avec vous et non pas pour vous ! La philosophie de notre atelier est que vous repartiez non seulement avec un vélo réparé mais également avec des connaissances en mécanique !\n\nL’atelier Good’huile est ouvert aux personnes adhérentes de la Solid’ sans prise de rdv. Vous pouvez venir quand vous voulez sur les horaires de la permanence\, nous vous accueillerons en fonction de nos capacités et de l’affluence !\nVous pouvez prendre votre adhésion lors de votre première venue à l’atelier.\nTout est possible chez Good’huile ! Apprendre à réparer ce dérailleur dont les vitesses passent mal\, régler ces freins récalcitrants\, changer une chambre à air\, acheter et installer un porte-bagages…\n\nLes pièces détachées neuves et d’occasion sont en vente à prix fixe\, l’accompagnement technique et la formation à la mécanique sont à prix libre : vous donnez ce que vous pouvez pour aider l’atelier à continuer son bout de chemin !\n\nVous pouvez aussi acheter ou troquer un vélo issu de notre atelier\, nous en avons pour tous les gouts : vélo enfant\, VTT ado/adulte\, VTC\, vélo de ville\, BMX…\n\nL’atelier se trouve au 1 rue des Filatures à Clisson\, derrière la Maison de la Solidarité. Plus d’informations auprès d’Arnaud au 0649762227 et à velo@lasolid.fr.
URL:https://www.lasolid.fr/evenement/atelier-velo-goodhuile-vente-velos/2025-12-10/
LOCATION:Maison de la solidarité\, 1 rue des filatures\, Clisson\, 44190\, France
CATEGORIES:Tiers Lieu Ateliers Solidaires,Vélo
ATTACH;FMTTYPE=image/jpeg:https://www.lasolid.fr/wp-content/uploads/445186160_840457078114807_5486995695168866769_n-1.jpg
ORGANIZER;CN="La Solid'":MAILTO:asso@lasolid.fr
END:VEVENT
BEGIN:VEVENT
DTSTART;TZID=Europe/Paris:20251212T190000
DTEND;TZID=Europe/Paris:20251212T220000
DTSTAMP:20260420T053257
CREATED:20251009T193446Z
LAST-MODIFIED:20251203T192400Z
UID:10002095-1765566000-1765576800@www.lasolid.fr
SUMMARY:COMPLET ! Raclette littéraire des Super Féministes
DESCRIPTION:La voici\, la voilà ! Les Super Féministes organisent leur raclette littéraire annuelle. \nMais qu’est-ce que c’est que ce drôle d’évènement ? C’est donc une soirée raclette\, végétarienne ou végan\, où l’on discute bouquins (BD\, romans\, essais\, poésie …). Tu peux venir avec tes livres féministes préférés pour les présenter\, et éventuellement les prêter aux personnes présentes intéressées. \nQuelques infos :\n– Les courses de nourriture seront faites en amont\, venez avec de quoi boire un coup (boissons sans alcool très bienvenues)\n– Cet évènement est indiqué gratuit\, mais en réalité c’est à prix libre. Il faudra a minima rembourser les courses de la nourriture \n– Inscription sur ce lien : https://lasolid.assoconnect.com/collect/description/624487-f-raclette-litteraire-super-feministes\n– Si tu veux l’option végan\, écris à asso@lasolid.fr ;\n– C’est un évènement mixte\, pour tous les genres
URL:https://www.lasolid.fr/evenement/raclette-litteraire-des-super-feministes/
LOCATION:Maison de la solidarité\, 1 rue des filatures\, Clisson\, 44190\, France
CATEGORIES:Rdv des Super Féministes
ATTACH;FMTTYPE=image/png:https://www.lasolid.fr/wp-content/uploads/raclette-et-bouquins.hash_.4d0b2c5dab2590090dcae5edfe68fc40.png
ORGANIZER;CN="La Solid'":MAILTO:asso@lasolid.fr
END:VEVENT
BEGIN:VEVENT
DTSTART;TZID=Europe/Paris:20251213T100000
DTEND;TZID=Europe/Paris:20251213T170000
DTSTAMP:20260420T053257
CREATED:20250905T153644Z
LAST-MODIFIED:20251009T151252Z
UID:10001973-1765620000-1765645200@www.lasolid.fr
SUMMARY:Atelier soudure Good Steel
DESCRIPTION:Atelier de réparation\, création et de découverte de la soudure à l’arc animé par Gaël\, ouvert à tou·tes les adhérent·es\, à prix libre ! \n10h-17h – possibilité de rester déjeuner à la Solid’ le midi (cuisine et jardin sur place). \nViens faire des étincelles et construire des trucs super utiles\, comme un démonte-palettes\, une remorque pour ton vélo\, réparer ton vieux portail\, ta chaise de jardin en fer forgé ou réaliser une jolie œuvre d’art. \nAtelier destiné à toutes celles et ceux qui souhaitent apprendre à souder et travailler le métal.\nIci\, on ne soude pas pour rien. Tous les participant·es repartent avec une création faite de leurs propres mains. \nAtelier de 10H à 17H\, Prévoir chaussure de sécurité et vêtement de travail épais (Ex : bleu de travail) \nNombre de places limité\, inscription vivement conseillée : asso@lasolid.fr / 06 33 56 20 56 \nInscription pour le 13/12 : https://lasolid.assoconnect.com/collect/description/615011-g-atelier-soudure-good-steel \n 
URL:https://www.lasolid.fr/evenement/atelier-soudure-good-steel-2-3-2-3-4/
LOCATION:Maison de la solidarité\, 1 rue des filatures\, Clisson\, 44190\, France
CATEGORIES:Good Steel,Tiers Lieu Ateliers Solidaires
ATTACH;FMTTYPE=image/jpeg:https://www.lasolid.fr/wp-content/uploads/good-steel-1-scaled.jpg
ORGANIZER;CN="La Solid'":MAILTO:asso@lasolid.fr
END:VEVENT
BEGIN:VEVENT
DTSTART;TZID=Europe/Paris:20251213T140000
DTEND;TZID=Europe/Paris:20251213T170000
DTSTAMP:20260420T053257
CREATED:20250918T165303Z
LAST-MODIFIED:20251114T173706Z
UID:10002081-1765634400-1765645200@www.lasolid.fr
SUMMARY:Atelier couture Fil Good
DESCRIPTION:Atelier couture coopératif et solidaire\, ouvert à tou·tes\, initié·es ou débutant·es\, dans un esprit de partage. Matériel et conseils mutualisés. \nAtelier libre\, un samedi après-midi par mois\, à prix libre. \nInscription (non obligatoire) : asso@lasolid.fr / 06 33 56 20 56. \nDates automne 2025 : 20/9\, 18/10\, 15/11 et 13/12. Dates 2026 : 17/1\, 14/2\, 21/3\, 18/4\, 23/5\, 20/6.
URL:https://www.lasolid.fr/evenement/atelier-couture-fil-good/2025-12-13/
LOCATION:Maison de la solidarité\, 1 rue des filatures\, Clisson\, 44190\, France
CATEGORIES:Fil Good
ATTACH;FMTTYPE=image/jpeg:https://www.lasolid.fr/wp-content/uploads/P1000678-scaled.jpg
ORGANIZER;CN="La Solid'":MAILTO:asso@lasolid.fr
END:VEVENT
BEGIN:VEVENT
DTSTART;TZID=Europe/Paris:20251217T140000
DTEND;TZID=Europe/Paris:20251217T190000
DTSTAMP:20260420T053257
CREATED:20230619T120254Z
LAST-MODIFIED:20240820T225100Z
UID:10001432-1765980000-1765998000@www.lasolid.fr
SUMMARY:Atelier vélo Good’Huile + vente de vélos d'occasion
DESCRIPTION:L’atelier Good’huile est un atelier vélo coopératif et solidaire\, membre du réseau L’Heureux Cyclage.\nNotre équipe bénévole et salariée vous accueille tous les mercredis de 14h à 19h !\n\nNous vous accompagnons dans vos réparations de vélos : nous faisons avec vous et non pas pour vous ! La philosophie de notre atelier est que vous repartiez non seulement avec un vélo réparé mais également avec des connaissances en mécanique !\n\nL’atelier Good’huile est ouvert aux personnes adhérentes de la Solid’ sans prise de rdv. Vous pouvez venir quand vous voulez sur les horaires de la permanence\, nous vous accueillerons en fonction de nos capacités et de l’affluence !\nVous pouvez prendre votre adhésion lors de votre première venue à l’atelier.\nTout est possible chez Good’huile ! Apprendre à réparer ce dérailleur dont les vitesses passent mal\, régler ces freins récalcitrants\, changer une chambre à air\, acheter et installer un porte-bagages…\n\nLes pièces détachées neuves et d’occasion sont en vente à prix fixe\, l’accompagnement technique et la formation à la mécanique sont à prix libre : vous donnez ce que vous pouvez pour aider l’atelier à continuer son bout de chemin !\n\nVous pouvez aussi acheter ou troquer un vélo issu de notre atelier\, nous en avons pour tous les gouts : vélo enfant\, VTT ado/adulte\, VTC\, vélo de ville\, BMX…\n\nL’atelier se trouve au 1 rue des Filatures à Clisson\, derrière la Maison de la Solidarité. Plus d’informations auprès d’Arnaud au 0649762227 et à velo@lasolid.fr.
URL:https://www.lasolid.fr/evenement/atelier-velo-goodhuile-vente-velos/2025-12-17/
LOCATION:Maison de la solidarité\, 1 rue des filatures\, Clisson\, 44190\, France
CATEGORIES:Tiers Lieu Ateliers Solidaires,Vélo
ATTACH;FMTTYPE=image/jpeg:https://www.lasolid.fr/wp-content/uploads/445186160_840457078114807_5486995695168866769_n-1.jpg
ORGANIZER;CN="La Solid'":MAILTO:asso@lasolid.fr
END:VEVENT
BEGIN:VEVENT
DTSTART;VALUE=DATE:20251224
DTEND;VALUE=DATE:20260102
DTSTAMP:20260420T053257
CREATED:20251119T152415Z
LAST-MODIFIED:20260105T154345Z
UID:10002244-1766534400-1767311999@www.lasolid.fr
SUMMARY:Fermeture hivernale
DESCRIPTION:Notre équipe fait une pause. Rendez-vous mercredi 7 janvier à 14h pour la réouverture de l’atelier vélo Good’Huile. \nBonne fêtes de fin d’année !
URL:https://www.lasolid.fr/evenement/fermeture-hivernale/
LOCATION:Maison de la solidarité\, 1 rue des filatures\, Clisson\, 44190\, France
CATEGORIES:Autres,Environnement - Biodiversité,Réunions,Tiers Lieu Ateliers Solidaires,Vélo
ATTACH;FMTTYPE=image/jpeg:https://www.lasolid.fr/wp-content/uploads/christmas-background-scaled-e1733013021439.jpg
ORGANIZER;CN="La Solid'":MAILTO:asso@lasolid.fr
END:VEVENT
END:VCALENDAR