BEGIN:VCALENDAR
VERSION:2.0
PRODID:-//La Solid&#039; - ECPv6.13.2.1//NONSGML v1.0//EN
CALSCALE:GREGORIAN
METHOD:PUBLISH
X-WR-CALNAME:La Solid&#039;
X-ORIGINAL-URL:https://www.lasolid.fr
X-WR-CALDESC:Évènements pour La Solid&#039;
REFRESH-INTERVAL;VALUE=DURATION:PT1H
X-Robots-Tag:noindex
X-PUBLISHED-TTL:PT1H
BEGIN:VTIMEZONE
TZID:Europe/Paris
BEGIN:DAYLIGHT
TZOFFSETFROM:+0100
TZOFFSETTO:+0200
TZNAME:CEST
DTSTART:20250330T010000
END:DAYLIGHT
BEGIN:STANDARD
TZOFFSETFROM:+0200
TZOFFSETTO:+0100
TZNAME:CET
DTSTART:20251026T010000
END:STANDARD
END:VTIMEZONE
BEGIN:VEVENT
DTSTART;TZID=Europe/Paris:20250506T180000
DTEND;TZID=Europe/Paris:20250506T200000
DTSTAMP:20260419T201926
CREATED:20250415T111556Z
LAST-MODIFIED:20250415T220700Z
UID:10001954-1746554400-1746561600@www.lasolid.fr
SUMMARY:Atelier des savoirs : fabrique ton kéfir !
DESCRIPTION:Changement d’horaire exceptionnel à cause des ponts de Mai. \nEn prévision de l’assemblée générale du 13 Juin\, l’atelier des savoirs investit la salle commune pour réviser la préparation du kéfir avant de lancer la production à grande échelle 🙂 \nViens apprendre à réaliser cette boisson fermentée riche en probiotiques. \nN’oublie pas d’apporter une bouteille avec bouchon mécanique pour emporter ta production. \nLe nombre de participant·es est limité à 10. \nDégustation de boissons fermentées en introduction\, grignotages bienvenus en accompagnement. \nInscription ouverte à tou·tes\, à prix libre\, ici : \n\nhttps://lasolid.assoconnect.com/collect/description/554162-s-atelier-des-savoirs-fabrique-ton-kefir
URL:https://www.lasolid.fr/evenement/atelier-des-savoirs-fabrique-ton-kefir/
LOCATION:Maison de la solidarité\, 1 rue des filatures\, Clisson\, 44190\, France
CATEGORIES:Atelier des savoirs,Tiers Lieu Ateliers Solidaires
ATTACH;FMTTYPE=image/png:https://www.lasolid.fr/wp-content/uploads/Ateliers-des-savoirs-1-2.png
ORGANIZER;CN="La Solid'":MAILTO:asso@lasolid.fr
END:VEVENT
BEGIN:VEVENT
DTSTART;TZID=Europe/Paris:20250507T140000
DTEND;TZID=Europe/Paris:20250507T190000
DTSTAMP:20260419T201926
CREATED:20230619T120254Z
LAST-MODIFIED:20240820T225100Z
UID:10001400-1746626400-1746644400@www.lasolid.fr
SUMMARY:Atelier vélo Good’Huile + vente de vélos d'occasion
DESCRIPTION:L’atelier Good’huile est un atelier vélo coopératif et solidaire\, membre du réseau L’Heureux Cyclage.\nNotre équipe bénévole et salariée vous accueille tous les mercredis de 14h à 19h !\n\nNous vous accompagnons dans vos réparations de vélos : nous faisons avec vous et non pas pour vous ! La philosophie de notre atelier est que vous repartiez non seulement avec un vélo réparé mais également avec des connaissances en mécanique !\n\nL’atelier Good’huile est ouvert aux personnes adhérentes de la Solid’ sans prise de rdv. Vous pouvez venir quand vous voulez sur les horaires de la permanence\, nous vous accueillerons en fonction de nos capacités et de l’affluence !\nVous pouvez prendre votre adhésion lors de votre première venue à l’atelier.\nTout est possible chez Good’huile ! Apprendre à réparer ce dérailleur dont les vitesses passent mal\, régler ces freins récalcitrants\, changer une chambre à air\, acheter et installer un porte-bagages…\n\nLes pièces détachées neuves et d’occasion sont en vente à prix fixe\, l’accompagnement technique et la formation à la mécanique sont à prix libre : vous donnez ce que vous pouvez pour aider l’atelier à continuer son bout de chemin !\n\nVous pouvez aussi acheter ou troquer un vélo issu de notre atelier\, nous en avons pour tous les gouts : vélo enfant\, VTT ado/adulte\, VTC\, vélo de ville\, BMX…\n\nL’atelier se trouve au 1 rue des Filatures à Clisson\, derrière la Maison de la Solidarité. Plus d’informations auprès d’Arnaud au 0649762227 et à velo@lasolid.fr.
URL:https://www.lasolid.fr/evenement/atelier-velo-goodhuile-vente-velos/2025-05-07/
LOCATION:Maison de la solidarité\, 1 rue des filatures\, Clisson\, 44190\, France
CATEGORIES:Tiers Lieu Ateliers Solidaires,Vélo
ATTACH;FMTTYPE=image/jpeg:https://www.lasolid.fr/wp-content/uploads/445186160_840457078114807_5486995695168866769_n-1.jpg
ORGANIZER;CN="La Solid'":MAILTO:asso@lasolid.fr
END:VEVENT
BEGIN:VEVENT
DTSTART;TZID=Europe/Paris:20250514T140000
DTEND;TZID=Europe/Paris:20250514T190000
DTSTAMP:20260419T201926
CREATED:20230619T120254Z
LAST-MODIFIED:20240820T225100Z
UID:10001401-1747231200-1747249200@www.lasolid.fr
SUMMARY:Atelier vélo Good’Huile + vente de vélos d'occasion
DESCRIPTION:L’atelier Good’huile est un atelier vélo coopératif et solidaire\, membre du réseau L’Heureux Cyclage.\nNotre équipe bénévole et salariée vous accueille tous les mercredis de 14h à 19h !\n\nNous vous accompagnons dans vos réparations de vélos : nous faisons avec vous et non pas pour vous ! La philosophie de notre atelier est que vous repartiez non seulement avec un vélo réparé mais également avec des connaissances en mécanique !\n\nL’atelier Good’huile est ouvert aux personnes adhérentes de la Solid’ sans prise de rdv. Vous pouvez venir quand vous voulez sur les horaires de la permanence\, nous vous accueillerons en fonction de nos capacités et de l’affluence !\nVous pouvez prendre votre adhésion lors de votre première venue à l’atelier.\nTout est possible chez Good’huile ! Apprendre à réparer ce dérailleur dont les vitesses passent mal\, régler ces freins récalcitrants\, changer une chambre à air\, acheter et installer un porte-bagages…\n\nLes pièces détachées neuves et d’occasion sont en vente à prix fixe\, l’accompagnement technique et la formation à la mécanique sont à prix libre : vous donnez ce que vous pouvez pour aider l’atelier à continuer son bout de chemin !\n\nVous pouvez aussi acheter ou troquer un vélo issu de notre atelier\, nous en avons pour tous les gouts : vélo enfant\, VTT ado/adulte\, VTC\, vélo de ville\, BMX…\n\nL’atelier se trouve au 1 rue des Filatures à Clisson\, derrière la Maison de la Solidarité. Plus d’informations auprès d’Arnaud au 0649762227 et à velo@lasolid.fr.
URL:https://www.lasolid.fr/evenement/atelier-velo-goodhuile-vente-velos/2025-05-14/
LOCATION:Maison de la solidarité\, 1 rue des filatures\, Clisson\, 44190\, France
CATEGORIES:Tiers Lieu Ateliers Solidaires,Vélo
ATTACH;FMTTYPE=image/jpeg:https://www.lasolid.fr/wp-content/uploads/445186160_840457078114807_5486995695168866769_n-1.jpg
ORGANIZER;CN="La Solid'":MAILTO:asso@lasolid.fr
END:VEVENT
BEGIN:VEVENT
DTSTART;TZID=Europe/Paris:20250515T170000
DTEND;TZID=Europe/Paris:20250515T200000
DTSTAMP:20260419T201926
CREATED:20250320T222227Z
LAST-MODIFIED:20250323T012516Z
UID:10001945-1747328400-1747339200@www.lasolid.fr
SUMMARY:Atelier mécanique vélo en mixité choisie MINT*
DESCRIPTION:Avec les Super Féministes de La Solid’ : atelier d’apprentissage de la réparation de vélos pour les femmes et minorités de genres. \nApprends à réparer ton vélo ! Atelier pédagogique ouvert aux femmes et minorités de genres à La Solid’\, à prix libre. Inscription obligatoire par sms. \nMarie : veloegaux@lasolid.fr / 06 33 38 35 47 \n*Meufs\, Intersexes\, Non-Binaires et Trans \n 
URL:https://www.lasolid.fr/evenement/atelier-mecanique-velo-en-mixite-choisie-mint-2/2025-05-15/
LOCATION:Maison de la solidarité\, 1 rue des filatures\, Clisson\, 44190\, France
CATEGORIES:Rdv des Super Féministes,Tiers Lieu Ateliers Solidaires,Vélo
ATTACH;FMTTYPE=image/png:https://www.lasolid.fr/wp-content/uploads/meca-meufs-avril-juin-2025-affiche.png
ORGANIZER;CN="La Solid'":MAILTO:asso@lasolid.fr
END:VEVENT
BEGIN:VEVENT
DTSTART;TZID=Europe/Paris:20250521T140000
DTEND;TZID=Europe/Paris:20250521T190000
DTSTAMP:20260419T201926
CREATED:20230619T120254Z
LAST-MODIFIED:20240820T225100Z
UID:10001402-1747836000-1747854000@www.lasolid.fr
SUMMARY:Atelier vélo Good’Huile + vente de vélos d'occasion
DESCRIPTION:L’atelier Good’huile est un atelier vélo coopératif et solidaire\, membre du réseau L’Heureux Cyclage.\nNotre équipe bénévole et salariée vous accueille tous les mercredis de 14h à 19h !\n\nNous vous accompagnons dans vos réparations de vélos : nous faisons avec vous et non pas pour vous ! La philosophie de notre atelier est que vous repartiez non seulement avec un vélo réparé mais également avec des connaissances en mécanique !\n\nL’atelier Good’huile est ouvert aux personnes adhérentes de la Solid’ sans prise de rdv. Vous pouvez venir quand vous voulez sur les horaires de la permanence\, nous vous accueillerons en fonction de nos capacités et de l’affluence !\nVous pouvez prendre votre adhésion lors de votre première venue à l’atelier.\nTout est possible chez Good’huile ! Apprendre à réparer ce dérailleur dont les vitesses passent mal\, régler ces freins récalcitrants\, changer une chambre à air\, acheter et installer un porte-bagages…\n\nLes pièces détachées neuves et d’occasion sont en vente à prix fixe\, l’accompagnement technique et la formation à la mécanique sont à prix libre : vous donnez ce que vous pouvez pour aider l’atelier à continuer son bout de chemin !\n\nVous pouvez aussi acheter ou troquer un vélo issu de notre atelier\, nous en avons pour tous les gouts : vélo enfant\, VTT ado/adulte\, VTC\, vélo de ville\, BMX…\n\nL’atelier se trouve au 1 rue des Filatures à Clisson\, derrière la Maison de la Solidarité. Plus d’informations auprès d’Arnaud au 0649762227 et à velo@lasolid.fr.
URL:https://www.lasolid.fr/evenement/atelier-velo-goodhuile-vente-velos/2025-05-21/
LOCATION:Maison de la solidarité\, 1 rue des filatures\, Clisson\, 44190\, France
CATEGORIES:Tiers Lieu Ateliers Solidaires,Vélo
ATTACH;FMTTYPE=image/jpeg:https://www.lasolid.fr/wp-content/uploads/445186160_840457078114807_5486995695168866769_n-1.jpg
ORGANIZER;CN="La Solid'":MAILTO:asso@lasolid.fr
END:VEVENT
BEGIN:VEVENT
DTSTART;TZID=Europe/Paris:20250522T093000
DTEND;TZID=Europe/Paris:20250524T170000
DTSTAMP:20260419T201926
CREATED:20250423T211927Z
LAST-MODIFIED:20250520T144817Z
UID:10001965-1747906200-1748106000@www.lasolid.fr
SUMMARY:Chantier collectif aménagement extérieur
DESCRIPTION:Anne t’invite à un chantier collectif Good Wood pour construire une terrasse sous les pins à la maison de la solidarité\, qui fera office de scène pour notre grande fête des 25 ans de La Solid’ le 13 juin ! \nTous les coups de mains sont bienvenus ! \n– mercredi 21 mai\, achat matériaux et récupération palettes solides\n– jeudi 22 mai\, installation fondation et solivage\n– vendredi 23\, installation sol avec palettes.\nUne dispo sur un de ces créneaux ? Contacte Anne : 06 31 56 00 47 – ateliers@lasolid.fr
URL:https://www.lasolid.fr/evenement/chantier-collectif-amenagement-exterieur/2025-05-22/
LOCATION:Maison de la solidarité\, 1 rue des filatures\, Clisson\, 44190\, France
CATEGORIES:Good Wood,Tiers Lieu Ateliers Solidaires
ATTACH;FMTTYPE=image/jpeg:https://www.lasolid.fr/wp-content/uploads/female-workshop-painting-scaled.jpg
ORGANIZER;CN="La Solid'":MAILTO:asso@lasolid.fr
END:VEVENT
BEGIN:VEVENT
DTSTART;TZID=Europe/Paris:20250523T093000
DTEND;TZID=Europe/Paris:20250523T170000
DTSTAMP:20260419T201926
CREATED:20250423T211927Z
LAST-MODIFIED:20250520T144817Z
UID:10001966-1747992600-1748019600@www.lasolid.fr
SUMMARY:Chantier collectif aménagement extérieur
DESCRIPTION:Anne t’invite à un chantier collectif Good Wood pour construire une terrasse sous les pins à la maison de la solidarité\, qui fera office de scène pour notre grande fête des 25 ans de La Solid’ le 13 juin ! \nTous les coups de mains sont bienvenus ! \n– mercredi 21 mai\, achat matériaux et récupération palettes solides\n– jeudi 22 mai\, installation fondation et solivage\n– vendredi 23\, installation sol avec palettes.\nUne dispo sur un de ces créneaux ? Contacte Anne : 06 31 56 00 47 – ateliers@lasolid.fr
URL:https://www.lasolid.fr/evenement/chantier-collectif-amenagement-exterieur/2025-05-23/
LOCATION:Maison de la solidarité\, 1 rue des filatures\, Clisson\, 44190\, France
CATEGORIES:Good Wood,Tiers Lieu Ateliers Solidaires
ATTACH;FMTTYPE=image/jpeg:https://www.lasolid.fr/wp-content/uploads/female-workshop-painting-scaled.jpg
ORGANIZER;CN="La Solid'":MAILTO:asso@lasolid.fr
END:VEVENT
BEGIN:VEVENT
DTSTART;TZID=Europe/Paris:20250525T140000
DTEND;TZID=Europe/Paris:20250525T170000
DTSTAMP:20260419T201926
CREATED:20250430T151920Z
LAST-MODIFIED:20250520T144205Z
UID:10001844-1748181600-1748192400@www.lasolid.fr
SUMMARY:Atelier couture Fil Good : rafraichir les tenues d'été
DESCRIPTION:NOUVEAU ! FIL GOOD ALTERNE ATELIERS LIBRES (1 SAMEDI PAR MOIS) ET ATELIERS THEMATIQUES (1 DIMANCHE PAR MOIS) \nViens apprendre\, partager\, échanger… autour de ta pratique de la couture\, que tu sois débutant·e ou confirmé·e. \nThématiques de ce 25 mai : Rafraîchir les tenues d’été :  donner de l’aisance à une blouse et un tee-shirt trop justes\, refaire la doublure usée d’un bob… \nMatériel et conseils sont mutualisés. Viens avec ta machine si tu en as une… Sinon tu trouveras du matériel sur place. \nNombre de places limité. Inscription : asso@lasolid.fr ou 06 33 56 20 56. \nAvant de t’inscrire aux ateliers\, pense à adhérer ! \n \n\n 
URL:https://www.lasolid.fr/evenement/atelier-couture-fil-good-thematique-accessoires-de-cuisine-7/
LOCATION:Maison de la solidarité\, 1 rue des filatures\, Clisson\, 44190\, France
CATEGORIES:Fil Good,Tiers Lieu Ateliers Solidaires
ATTACH;FMTTYPE=image/jpeg:https://www.lasolid.fr/wp-content/uploads/P1070160-scaled.jpg
ORGANIZER;CN="La Solid'":MAILTO:asso@lasolid.fr
END:VEVENT
BEGIN:VEVENT
DTSTART;TZID=Europe/Paris:20250528T140000
DTEND;TZID=Europe/Paris:20250528T190000
DTSTAMP:20260419T201926
CREATED:20230619T120254Z
LAST-MODIFIED:20240820T225100Z
UID:10001403-1748440800-1748458800@www.lasolid.fr
SUMMARY:Atelier vélo Good’Huile + vente de vélos d'occasion
DESCRIPTION:L’atelier Good’huile est un atelier vélo coopératif et solidaire\, membre du réseau L’Heureux Cyclage.\nNotre équipe bénévole et salariée vous accueille tous les mercredis de 14h à 19h !\n\nNous vous accompagnons dans vos réparations de vélos : nous faisons avec vous et non pas pour vous ! La philosophie de notre atelier est que vous repartiez non seulement avec un vélo réparé mais également avec des connaissances en mécanique !\n\nL’atelier Good’huile est ouvert aux personnes adhérentes de la Solid’ sans prise de rdv. Vous pouvez venir quand vous voulez sur les horaires de la permanence\, nous vous accueillerons en fonction de nos capacités et de l’affluence !\nVous pouvez prendre votre adhésion lors de votre première venue à l’atelier.\nTout est possible chez Good’huile ! Apprendre à réparer ce dérailleur dont les vitesses passent mal\, régler ces freins récalcitrants\, changer une chambre à air\, acheter et installer un porte-bagages…\n\nLes pièces détachées neuves et d’occasion sont en vente à prix fixe\, l’accompagnement technique et la formation à la mécanique sont à prix libre : vous donnez ce que vous pouvez pour aider l’atelier à continuer son bout de chemin !\n\nVous pouvez aussi acheter ou troquer un vélo issu de notre atelier\, nous en avons pour tous les gouts : vélo enfant\, VTT ado/adulte\, VTC\, vélo de ville\, BMX…\n\nL’atelier se trouve au 1 rue des Filatures à Clisson\, derrière la Maison de la Solidarité. Plus d’informations auprès d’Arnaud au 0649762227 et à velo@lasolid.fr.
URL:https://www.lasolid.fr/evenement/atelier-velo-goodhuile-vente-velos/2025-05-28/
LOCATION:Maison de la solidarité\, 1 rue des filatures\, Clisson\, 44190\, France
CATEGORIES:Tiers Lieu Ateliers Solidaires,Vélo
ATTACH;FMTTYPE=image/jpeg:https://www.lasolid.fr/wp-content/uploads/445186160_840457078114807_5486995695168866769_n-1.jpg
ORGANIZER;CN="La Solid'":MAILTO:asso@lasolid.fr
END:VEVENT
END:VCALENDAR